BEGIN:VCALENDAR
VERSION:2.0
PRODID:-//Confindustria Salerno - ECPv6.6.3//NONSGML v1.0//EN
CALSCALE:GREGORIAN
METHOD:PUBLISH
X-WR-CALNAME:Confindustria Salerno
X-ORIGINAL-URL:https://www.confindustria.sa.it
X-WR-CALDESC:Eventi per Confindustria Salerno
REFRESH-INTERVAL;VALUE=DURATION:PT1H
X-Robots-Tag:noindex
X-PUBLISHED-TTL:PT1H
BEGIN:VTIMEZONE
TZID:Europe/Helsinki
BEGIN:DAYLIGHT
TZOFFSETFROM:+0200
TZOFFSETTO:+0300
TZNAME:EEST
DTSTART:20200329T010000
END:DAYLIGHT
BEGIN:STANDARD
TZOFFSETFROM:+0300
TZOFFSETTO:+0200
TZNAME:EET
DTSTART:20201025T010000
END:STANDARD
END:VTIMEZONE
BEGIN:VEVENT
DTSTART;TZID=Europe/Helsinki:20201222T150000
DTEND;TZID=Europe/Helsinki:20201222T170000
DTSTAMP:20260423T174724
CREATED:20201217T154944Z
LAST-MODIFIED:20201217T160206Z
UID:22594-1608649200-1608656400@www.confindustria.sa.it
SUMMARY:WEBINAR DESTINAZIONE OUTDOOR: COME SI STRUTTURA E SI VENDE UNA DESTINAZIONE PER ASSICURARE ESPERIENZE ALL'ARIA APERTA\, PER VIVERE PIENAMENTE IL TERRITORIO
DESCRIPTION:LOCANDINA WEBINAR 22 DICEMBRE IMPRESE TURISTICHE \nAnnamaria Laurenzano
URL:https://www.confindustria.sa.it/event/webinar-22-dicembre-2020-1500-1630-destinazione-outdoor-come-si-struttura-e-si-vende-una-destinazione-per-assicurare-esperienze-allaria-aperta-per-vivere-pienamente-il-territorio/
CATEGORIES:Riunioni varie
END:VEVENT
BEGIN:VEVENT
DTSTART;TZID=Europe/Helsinki:20201222T150000
DTEND;TZID=Europe/Helsinki:20201222T170000
DTSTAMP:20260423T174724
CREATED:20201217T154944Z
LAST-MODIFIED:20201217T154944Z
UID:71997-1608649200-1608656400@www.confindustria.sa.it
SUMMARY:WEBINAR DESTINAZIONE OUTDOOR: COME SI STRUTTURA E SI VENDE UNA DESTINAZIONE PER ASSICURARE ESPERIENZE ALL\'ARIA APERTA\, PER VIVERE PIENAMENTE IL TERRITORIO
DESCRIPTION:LOCANDINA WEBINAR 22 DICEMBRE IMPRESE TURISTICHE \nAnnamaria Laurenzano
URL:https://www.confindustria.sa.it/event/webinar-22-dicembre-2020-1500-1630-destinazione-outdoor-come-si-struttura-e-si-vende-una-destinazione-per-assicurare-esperienze-allaria-aperta-per-vivere-pienamente-il-territorio-2/
CATEGORIES:Riunioni varie
END:VEVENT
BEGIN:VEVENT
DTSTART;TZID=Europe/Helsinki:20201222T150000
DTEND;TZID=Europe/Helsinki:20201222T170000
DTSTAMP:20260423T174724
CREATED:20201217T154944Z
LAST-MODIFIED:20201217T154944Z
UID:73020-1608649200-1608656400@www.confindustria.sa.it
SUMMARY:WEBINAR DESTINAZIONE OUTDOOR: COME SI STRUTTURA E SI VENDE UNA DESTINAZIONE PER ASSICURARE ESPERIENZE ALL\'ARIA APERTA\, PER VIVERE PIENAMENTE IL TERRITORIO
DESCRIPTION:LOCANDINA WEBINAR 22 DICEMBRE IMPRESE TURISTICHE \nAnnamaria Laurenzano
URL:https://www.confindustria.sa.it/event/webinar-22-dicembre-2020-1500-1630-destinazione-outdoor-come-si-struttura-e-si-vende-una-destinazione-per-assicurare-esperienze-allaria-aperta-per-vivere-pienamente-il-territorio-3/
CATEGORIES:Riunioni varie
END:VEVENT
END:VCALENDAR