BEGIN:VCALENDAR
VERSION:2.0
PRODID:-//Confindustria Salerno - ECPv6.6.3//NONSGML v1.0//EN
CALSCALE:GREGORIAN
METHOD:PUBLISH
X-ORIGINAL-URL:https://www.confindustria.sa.it
X-WR-CALDESC:Eventi per Confindustria Salerno
REFRESH-INTERVAL;VALUE=DURATION:PT1H
X-Robots-Tag:noindex
X-PUBLISHED-TTL:PT1H
BEGIN:VTIMEZONE
TZID:Europe/Helsinki
BEGIN:DAYLIGHT
TZOFFSETFROM:+0200
TZOFFSETTO:+0300
TZNAME:EEST
DTSTART:20200329T010000
END:DAYLIGHT
BEGIN:STANDARD
TZOFFSETFROM:+0300
TZOFFSETTO:+0200
TZNAME:EET
DTSTART:20201025T010000
END:STANDARD
END:VTIMEZONE
BEGIN:VEVENT
DTSTART;TZID=Europe/Helsinki:20201207T153000
DTEND;TZID=Europe/Helsinki:20201207T173000
DTSTAMP:20260423T174737
CREATED:20201201T114512Z
LAST-MODIFIED:20201201T114512Z
UID:21648-1607355000-1607362200@www.confindustria.sa.it
SUMMARY:Consiglio di Presidenza Confindustria Campania\, in modalità telematica
DESCRIPTION:Partecipa il Presidente Andrea Prete \nAnnamaria Laurenzano
URL:https://www.confindustria.sa.it/event/consiglio-di-presidenza-confindustria-campania-in-modalita-telematica/
CATEGORIES:Riunioni varie
ATTACH;FMTTYPE=image/jpeg:https://www.confindustria.sa.it/wp-content/uploads/2020/03/1confindustria_images_annafabi_thumb_medium256_192.jpg
END:VEVENT
BEGIN:VEVENT
DTSTART;TZID=Europe/Helsinki:20201207T153000
DTEND;TZID=Europe/Helsinki:20201207T173000
DTSTAMP:20260423T174737
CREATED:20201201T114512Z
LAST-MODIFIED:20201201T114512Z
UID:71989-1607355000-1607362200@www.confindustria.sa.it
SUMMARY:Consiglio di Presidenza Confindustria Campania\, in modalità telematica
DESCRIPTION:Partecipa il Presidente Andrea Prete \nAnnamaria Laurenzano
URL:https://www.confindustria.sa.it/event/consiglio-di-presidenza-confindustria-campania-in-modalita-telematica-2/
CATEGORIES:Riunioni varie
ATTACH;FMTTYPE=image/jpeg:https://www.confindustria.sa.it/wp-content/uploads/2020/03/1confindustria_images_annafabi_thumb_medium256_192.jpg
END:VEVENT
BEGIN:VEVENT
DTSTART;TZID=Europe/Helsinki:20201207T153000
DTEND;TZID=Europe/Helsinki:20201207T173000
DTSTAMP:20260423T174737
CREATED:20201201T114512Z
LAST-MODIFIED:20201201T114512Z
UID:73012-1607355000-1607362200@www.confindustria.sa.it
SUMMARY:Consiglio di Presidenza Confindustria Campania\, in modalità telematica
DESCRIPTION:Partecipa il Presidente Andrea Prete \nAnnamaria Laurenzano
URL:https://www.confindustria.sa.it/event/consiglio-di-presidenza-confindustria-campania-in-modalita-telematica-3/
CATEGORIES:Riunioni varie
ATTACH;FMTTYPE=image/jpeg:https://www.confindustria.sa.it/wp-content/uploads/2020/03/1confindustria_images_annafabi_thumb_medium256_192.jpg
END:VEVENT
END:VCALENDAR