BEGIN:VCALENDAR
VERSION:2.0
PRODID:-//Confindustria Salerno - ECPv6.6.3//NONSGML v1.0//EN
CALSCALE:GREGORIAN
METHOD:PUBLISH
X-ORIGINAL-URL:https://www.confindustria.sa.it
X-WR-CALDESC:Eventi per Confindustria Salerno
REFRESH-INTERVAL;VALUE=DURATION:PT1H
X-Robots-Tag:noindex
X-PUBLISHED-TTL:PT1H
BEGIN:VTIMEZONE
TZID:Europe/Helsinki
BEGIN:DAYLIGHT
TZOFFSETFROM:+0200
TZOFFSETTO:+0300
TZNAME:EEST
DTSTART:20200329T010000
END:DAYLIGHT
BEGIN:STANDARD
TZOFFSETFROM:+0300
TZOFFSETTO:+0200
TZNAME:EET
DTSTART:20201025T010000
END:STANDARD
END:VTIMEZONE
BEGIN:VEVENT
DTSTART;TZID=Europe/Helsinki:20201103T100000
DTEND;TZID=Europe/Helsinki:20201103T120000
DTSTAMP:20260423T204218
CREATED:20201015T153953Z
LAST-MODIFIED:20201015T153953Z
UID:18929-1604397600-1604404800@www.confindustria.sa.it
SUMMARY:Webinar “La Formazione 2020 per imprenditori con cariche associative in Piccola Industria”
DESCRIPTION:Partecipa il Presidente P.I. Lina Piccolo \nProgramma webinar 3 novembre 2020\n \nAnnamaria Laurenzano
URL:https://www.confindustria.sa.it/event/webinar-la-formazione-2020-per-imprenditori-con-cariche-associative-in-piccola-industria/
CATEGORIES:Riunioni varie
ATTACH;FMTTYPE=image/jpeg:https://www.confindustria.sa.it/wp-content/uploads/2020/07/piccola-1.jpg
END:VEVENT
BEGIN:VEVENT
DTSTART;TZID=Europe/Helsinki:20201103T100000
DTEND;TZID=Europe/Helsinki:20201103T120000
DTSTAMP:20260423T204218
CREATED:20201015T153953Z
LAST-MODIFIED:20201015T153953Z
UID:71972-1604397600-1604404800@www.confindustria.sa.it
SUMMARY:Webinar “La Formazione 2020 per imprenditori con cariche associative in Piccola Industria”
DESCRIPTION:Partecipa il Presidente P.I. Lina Piccolo \nProgramma webinar 3 novembre 2020\n \nAnnamaria Laurenzano
URL:https://www.confindustria.sa.it/event/webinar-la-formazione-2020-per-imprenditori-con-cariche-associative-in-piccola-industria-2/
CATEGORIES:Riunioni varie
ATTACH;FMTTYPE=image/jpeg:https://www.confindustria.sa.it/wp-content/uploads/2020/07/piccola-1.jpg
END:VEVENT
BEGIN:VEVENT
DTSTART;TZID=Europe/Helsinki:20201103T100000
DTEND;TZID=Europe/Helsinki:20201103T120000
DTSTAMP:20260423T204218
CREATED:20201015T153953Z
LAST-MODIFIED:20201015T153953Z
UID:72995-1604397600-1604404800@www.confindustria.sa.it
SUMMARY:Webinar “La Formazione 2020 per imprenditori con cariche associative in Piccola Industria”
DESCRIPTION:Partecipa il Presidente P.I. Lina Piccolo \nProgramma webinar 3 novembre 2020\n \nAnnamaria Laurenzano
URL:https://www.confindustria.sa.it/event/webinar-la-formazione-2020-per-imprenditori-con-cariche-associative-in-piccola-industria-3/
CATEGORIES:Riunioni varie
ATTACH;FMTTYPE=image/jpeg:https://www.confindustria.sa.it/wp-content/uploads/2020/07/piccola-1.jpg
END:VEVENT
END:VCALENDAR