BEGIN:VCALENDAR
VERSION:2.0
PRODID:-//Confindustria Salerno - ECPv6.6.3//NONSGML v1.0//EN
CALSCALE:GREGORIAN
METHOD:PUBLISH
X-WR-CALNAME:Confindustria Salerno
X-ORIGINAL-URL:https://www.confindustria.sa.it
X-WR-CALDESC:Eventi per Confindustria Salerno
REFRESH-INTERVAL;VALUE=DURATION:PT1H
X-Robots-Tag:noindex
X-PUBLISHED-TTL:PT1H
BEGIN:VTIMEZONE
TZID:Europe/Helsinki
BEGIN:DAYLIGHT
TZOFFSETFROM:+0200
TZOFFSETTO:+0300
TZNAME:EEST
DTSTART:20210328T010000
END:DAYLIGHT
BEGIN:STANDARD
TZOFFSETFROM:+0300
TZOFFSETTO:+0200
TZNAME:EET
DTSTART:20211031T010000
END:STANDARD
END:VTIMEZONE
BEGIN:VEVENT
DTSTART;TZID=Europe/Helsinki:20210618T150000
DTEND;TZID=Europe/Helsinki:20210618T163000
DTSTAMP:20260423T092827
CREATED:20210614T121424Z
LAST-MODIFIED:20210614T121424Z
UID:72120-1624028400-1624033800@www.confindustria.sa.it
SUMMARY:Consiglio Direttivo del Comitato Femminile Plurale\, su piattaforma zoom
DESCRIPTION:Partecipa la Presidente Alessandra Puglisi \nAnnamaria Laurenzano
URL:https://www.confindustria.sa.it/event/consiglio-direttivo-del-comitato-femminile-plurale-su-piattaforma-zoom-2/
CATEGORIES:Riunioni varie
ATTACH;FMTTYPE=image/png:https://www.confindustria.sa.it/wp-content/uploads/2021/03/logo-com-fem.png
END:VEVENT
BEGIN:VEVENT
DTSTART;TZID=Europe/Helsinki:20210618T150000
DTEND;TZID=Europe/Helsinki:20210618T163000
DTSTAMP:20260423T092827
CREATED:20210614T121424Z
LAST-MODIFIED:20210614T121424Z
UID:73143-1624028400-1624033800@www.confindustria.sa.it
SUMMARY:Consiglio Direttivo del Comitato Femminile Plurale\, su piattaforma zoom
DESCRIPTION:Partecipa la Presidente Alessandra Puglisi \nAnnamaria Laurenzano
URL:https://www.confindustria.sa.it/event/consiglio-direttivo-del-comitato-femminile-plurale-su-piattaforma-zoom-3/
CATEGORIES:Riunioni varie
ATTACH;FMTTYPE=image/png:https://www.confindustria.sa.it/wp-content/uploads/2021/03/logo-com-fem.png
END:VEVENT
BEGIN:VEVENT
DTSTART;TZID=Europe/Helsinki:20210618T150000
DTEND;TZID=Europe/Helsinki:20210618T163000
DTSTAMP:20260423T092827
CREATED:20210614T121424Z
LAST-MODIFIED:20210614T121424Z
UID:32554-1624028400-1624033800@www.confindustria.sa.it
SUMMARY:Consiglio Direttivo del Comitato Femminile Plurale\, su piattaforma zoom
DESCRIPTION:Partecipa la Presidente Alessandra Puglisi \nAnnamaria Laurenzano
URL:https://www.confindustria.sa.it/event/consiglio-direttivo-del-comitato-femminile-plurale-su-piattaforma-zoom/
CATEGORIES:Riunioni varie
ATTACH;FMTTYPE=image/png:https://www.confindustria.sa.it/wp-content/uploads/2021/03/logo-com-fem.png
END:VEVENT
BEGIN:VEVENT
DTSTART;TZID=Europe/Helsinki:20210618T154500
DTEND;TZID=Europe/Helsinki:20210618T170000
DTSTAMP:20260423T092827
CREATED:20210617T152602Z
LAST-MODIFIED:20210617T152602Z
UID:72127-1624031100-1624035600@www.confindustria.sa.it
SUMMARY:Incontro con il Ministro del Turismo\, On. Garavaglia\, nell’ambito del Festival “Positano Racconta\"
DESCRIPTION:Partecipa il Presidente Antonio Ferraioli \nAnnamaria Laurenzano
URL:https://www.confindustria.sa.it/event/incontro-con-il-ministro-del-turismo-on-garavaglia-nellambito-del-festival-positano-racconta-2/
LOCATION:Positano – Hotel Le Sirenuse
CATEGORIES:Riunioni varie
ATTACH;FMTTYPE=image/png:https://www.confindustria.sa.it/wp-content/uploads/2020/07/LogoConfindustria1.png
END:VEVENT
BEGIN:VEVENT
DTSTART;TZID=Europe/Helsinki:20210618T154500
DTEND;TZID=Europe/Helsinki:20210618T170000
DTSTAMP:20260423T092827
CREATED:20210617T152602Z
LAST-MODIFIED:20210617T152602Z
UID:73150-1624031100-1624035600@www.confindustria.sa.it
SUMMARY:Incontro con il Ministro del Turismo\, On. Garavaglia\, nell’ambito del Festival “Positano Racconta\"
DESCRIPTION:Partecipa il Presidente Antonio Ferraioli \nAnnamaria Laurenzano
URL:https://www.confindustria.sa.it/event/incontro-con-il-ministro-del-turismo-on-garavaglia-nellambito-del-festival-positano-racconta-3/
LOCATION:Positano – Hotel Le Sirenuse
CATEGORIES:Riunioni varie
ATTACH;FMTTYPE=image/png:https://www.confindustria.sa.it/wp-content/uploads/2020/07/LogoConfindustria1.png
END:VEVENT
BEGIN:VEVENT
DTSTART;TZID=Europe/Helsinki:20210618T154500
DTEND;TZID=Europe/Helsinki:20210618T170000
DTSTAMP:20260423T092827
CREATED:20210617T152602Z
LAST-MODIFIED:20210617T152823Z
UID:32746-1624031100-1624035600@www.confindustria.sa.it
SUMMARY:Incontro con il Ministro del Turismo\, On. Garavaglia\, nell’ambito del Festival “Positano Racconta"
DESCRIPTION:Partecipa il Presidente Antonio Ferraioli \nAnnamaria Laurenzano
URL:https://www.confindustria.sa.it/event/incontro-con-il-ministro-del-turismo-on-garavaglia-nellambito-del-festival-positano-racconta/
LOCATION:Positano – Hotel Le Sirenuse
CATEGORIES:Riunioni varie
ATTACH;FMTTYPE=image/png:https://www.confindustria.sa.it/wp-content/uploads/2020/07/LogoConfindustria1.png
END:VEVENT
BEGIN:VEVENT
DTSTART;TZID=Europe/Helsinki:20210621T150000
DTEND;TZID=Europe/Helsinki:20210621T170000
DTSTAMP:20260423T092827
CREATED:20210603T121331Z
LAST-MODIFIED:20210603T121331Z
UID:31913-1624287600-1624294800@www.confindustria.sa.it
SUMMARY:Consiglio Centrale Piccola Industria
DESCRIPTION:da remoto (L.Piccolo) \nAnnamaria Laurenzano
URL:https://www.confindustria.sa.it/event/consiglio-centrale-piccola-industria-4/
CATEGORIES:Riunioni varie
ATTACH;FMTTYPE=image/jpeg:https://www.confindustria.sa.it/wp-content/uploads/2020/07/piccola-1.jpg
END:VEVENT
BEGIN:VEVENT
DTSTART;TZID=Europe/Helsinki:20210621T150000
DTEND;TZID=Europe/Helsinki:20210621T170000
DTSTAMP:20260423T092827
CREATED:20210603T121331Z
LAST-MODIFIED:20210603T121331Z
UID:72112-1624287600-1624294800@www.confindustria.sa.it
SUMMARY:Consiglio Centrale Piccola Industria
DESCRIPTION:da remoto (L.Piccolo) \nAnnamaria Laurenzano
URL:https://www.confindustria.sa.it/event/consiglio-centrale-piccola-industria-4-2/
CATEGORIES:Riunioni varie
ATTACH;FMTTYPE=image/jpeg:https://www.confindustria.sa.it/wp-content/uploads/2020/07/piccola-1.jpg
END:VEVENT
BEGIN:VEVENT
DTSTART;TZID=Europe/Helsinki:20210621T150000
DTEND;TZID=Europe/Helsinki:20210621T170000
DTSTAMP:20260423T092827
CREATED:20210603T121331Z
LAST-MODIFIED:20210603T121331Z
UID:73135-1624287600-1624294800@www.confindustria.sa.it
SUMMARY:Consiglio Centrale Piccola Industria
DESCRIPTION:da remoto (L.Piccolo) \nAnnamaria Laurenzano
URL:https://www.confindustria.sa.it/event/consiglio-centrale-piccola-industria-4-3/
CATEGORIES:Riunioni varie
ATTACH;FMTTYPE=image/jpeg:https://www.confindustria.sa.it/wp-content/uploads/2020/07/piccola-1.jpg
END:VEVENT
BEGIN:VEVENT
DTSTART;TZID=Europe/Helsinki:20210622T150000
DTEND;TZID=Europe/Helsinki:20210622T170000
DTSTAMP:20260423T092827
CREATED:20210603T121500Z
LAST-MODIFIED:20210603T121500Z
UID:31915-1624374000-1624381200@www.confindustria.sa.it
SUMMARY:Consiglio Direttivo Piccola Industria Confindustria Campania
DESCRIPTION:partecipa (L.Piccolo) \nAnnamaria Laurenzano
URL:https://www.confindustria.sa.it/event/consiglio-direttivo-piccola-industria-confindustria-campania/
LOCATION:Caserta c/o azienda 012Factory
CATEGORIES:Riunioni varie
ATTACH;FMTTYPE=image/jpeg:https://www.confindustria.sa.it/wp-content/uploads/2020/07/piccola.jpg
END:VEVENT
BEGIN:VEVENT
DTSTART;TZID=Europe/Helsinki:20210622T150000
DTEND;TZID=Europe/Helsinki:20210622T170000
DTSTAMP:20260423T092827
CREATED:20210603T121500Z
LAST-MODIFIED:20210603T121500Z
UID:72113-1624374000-1624381200@www.confindustria.sa.it
SUMMARY:Consiglio Direttivo Piccola Industria Confindustria Campania
DESCRIPTION:partecipa (L.Piccolo) \nAnnamaria Laurenzano
URL:https://www.confindustria.sa.it/event/consiglio-direttivo-piccola-industria-confindustria-campania-3/
LOCATION:Caserta c/o azienda 012Factory
CATEGORIES:Riunioni varie
ATTACH;FMTTYPE=image/jpeg:https://www.confindustria.sa.it/wp-content/uploads/2020/07/piccola.jpg
END:VEVENT
BEGIN:VEVENT
DTSTART;TZID=Europe/Helsinki:20210622T150000
DTEND;TZID=Europe/Helsinki:20210622T170000
DTSTAMP:20260423T092827
CREATED:20210603T121500Z
LAST-MODIFIED:20210603T121500Z
UID:73136-1624374000-1624381200@www.confindustria.sa.it
SUMMARY:Consiglio Direttivo Piccola Industria Confindustria Campania
DESCRIPTION:partecipa (L.Piccolo) \nAnnamaria Laurenzano
URL:https://www.confindustria.sa.it/event/consiglio-direttivo-piccola-industria-confindustria-campania-4/
LOCATION:Caserta c/o azienda 012Factory
CATEGORIES:Riunioni varie
ATTACH;FMTTYPE=image/jpeg:https://www.confindustria.sa.it/wp-content/uploads/2020/07/piccola.jpg
END:VEVENT
BEGIN:VEVENT
DTSTART;TZID=Europe/Helsinki:20210623T110000
DTEND;TZID=Europe/Helsinki:20210623T130000
DTSTAMP:20260423T092827
CREATED:20210611T110842Z
LAST-MODIFIED:20210611T110842Z
UID:72119-1624446000-1624453200@www.confindustria.sa.it
SUMMARY:Consiglio di Presidenza di Confindustria Campania
DESCRIPTION:Partecipa il Presidente Antonio Ferraioli \n  \nAnnamaria Laurenzano
URL:https://www.confindustria.sa.it/event/consiglio-di-presidenza-di-confindustria-campania-2-2/
LOCATION:Confindustria Caserta – via Roma 17
CATEGORIES:Riunioni varie
ATTACH;FMTTYPE=image/png:https://www.confindustria.sa.it/wp-content/uploads/2021/01/logo-confindustria-campania.png
END:VEVENT
BEGIN:VEVENT
DTSTART;TZID=Europe/Helsinki:20210623T110000
DTEND;TZID=Europe/Helsinki:20210623T130000
DTSTAMP:20260423T092827
CREATED:20210611T110842Z
LAST-MODIFIED:20210611T110842Z
UID:73142-1624446000-1624453200@www.confindustria.sa.it
SUMMARY:Consiglio di Presidenza di Confindustria Campania
DESCRIPTION:Partecipa il Presidente Antonio Ferraioli \n  \nAnnamaria Laurenzano
URL:https://www.confindustria.sa.it/event/consiglio-di-presidenza-di-confindustria-campania-2-3/
LOCATION:Confindustria Caserta – via Roma 17
CATEGORIES:Riunioni varie
ATTACH;FMTTYPE=image/png:https://www.confindustria.sa.it/wp-content/uploads/2021/01/logo-confindustria-campania.png
END:VEVENT
BEGIN:VEVENT
DTSTART;TZID=Europe/Helsinki:20210623T110000
DTEND;TZID=Europe/Helsinki:20210623T130000
DTSTAMP:20260423T092827
CREATED:20210611T110842Z
LAST-MODIFIED:20210611T110842Z
UID:32393-1624446000-1624453200@www.confindustria.sa.it
SUMMARY:Consiglio di Presidenza di Confindustria Campania
DESCRIPTION:Partecipa il Presidente Antonio Ferraioli \n  \nAnnamaria Laurenzano
URL:https://www.confindustria.sa.it/event/consiglio-di-presidenza-di-confindustria-campania-2/
LOCATION:Confindustria Caserta – via Roma 17
CATEGORIES:Riunioni varie
ATTACH;FMTTYPE=image/png:https://www.confindustria.sa.it/wp-content/uploads/2021/01/logo-confindustria-campania.png
END:VEVENT
BEGIN:VEVENT
DTSTART;TZID=Europe/Helsinki:20210624T120000
DTEND;TZID=Europe/Helsinki:20210624T133000
DTSTAMP:20260423T092827
CREATED:20210616T143530Z
LAST-MODIFIED:20210616T143530Z
UID:72123-1624536000-1624541400@www.confindustria.sa.it
SUMMARY:I  40 anni del Consorzio di Tutela. Storia e futuro della Mozzarella di Bufala Campana DOP
DESCRIPTION:Partecipa il Presidente del Gruppo Alimentare\, Sabato D\’Amico \nAnnamaria Laurenzano
URL:https://www.confindustria.sa.it/event/i-40-anni-del-consorzio-di-tutela-storia-e-futuro-della-mozzarella-di-bufala-campana-dop-2/
LOCATION:REGGIA DI CASERTA
CATEGORIES:Riunioni varie
ATTACH;FMTTYPE=image/png:https://www.confindustria.sa.it/wp-content/uploads/2021/06/images.png
END:VEVENT
BEGIN:VEVENT
DTSTART;TZID=Europe/Helsinki:20210624T120000
DTEND;TZID=Europe/Helsinki:20210624T133000
DTSTAMP:20260423T092827
CREATED:20210616T143530Z
LAST-MODIFIED:20210616T143530Z
UID:73146-1624536000-1624541400@www.confindustria.sa.it
SUMMARY:I  40 anni del Consorzio di Tutela. Storia e futuro della Mozzarella di Bufala Campana DOP
DESCRIPTION:Partecipa il Presidente del Gruppo Alimentare\, Sabato D\’Amico \nAnnamaria Laurenzano
URL:https://www.confindustria.sa.it/event/i-40-anni-del-consorzio-di-tutela-storia-e-futuro-della-mozzarella-di-bufala-campana-dop-3/
LOCATION:REGGIA DI CASERTA
CATEGORIES:Riunioni varie
ATTACH;FMTTYPE=image/png:https://www.confindustria.sa.it/wp-content/uploads/2021/06/images.png
END:VEVENT
BEGIN:VEVENT
DTSTART;TZID=Europe/Helsinki:20210624T120000
DTEND;TZID=Europe/Helsinki:20210624T133000
DTSTAMP:20260423T092827
CREATED:20210616T143530Z
LAST-MODIFIED:20210616T143530Z
UID:32712-1624536000-1624541400@www.confindustria.sa.it
SUMMARY:I  40 anni del Consorzio di Tutela. Storia e futuro della Mozzarella di Bufala Campana DOP
DESCRIPTION:Partecipa il Presidente del Gruppo Alimentare\, Sabato D’Amico \nAnnamaria Laurenzano
URL:https://www.confindustria.sa.it/event/i-40-anni-del-consorzio-di-tutela-storia-e-futuro-della-mozzarella-di-bufala-campana-dop/
LOCATION:REGGIA DI CASERTA
CATEGORIES:Riunioni varie
ATTACH;FMTTYPE=image/png:https://www.confindustria.sa.it/wp-content/uploads/2021/06/images.png
END:VEVENT
BEGIN:VEVENT
DTSTART;TZID=Europe/Helsinki:20210705T143000
DTEND;TZID=Europe/Helsinki:20210705T163000
DTSTAMP:20260423T092827
CREATED:20210702T153051Z
LAST-MODIFIED:20210702T153051Z
UID:72134-1625495400-1625502600@www.confindustria.sa.it
SUMMARY:Webinar : Design di Lusso\, question time con il professor Antonio Catalani
DESCRIPTION:a cura del Gruppo Design tessile e sistema casa \npartecipa il presidente del gruppo E.Prete \nAnnamaria Laurenzano
URL:https://www.confindustria.sa.it/event/webinar-design-di-lusso-question-time-con-il-professor-antonio-catalani-2/
CATEGORIES:eventi-confindustria,Riunioni varie
END:VEVENT
BEGIN:VEVENT
DTSTART;TZID=Europe/Helsinki:20210705T143000
DTEND;TZID=Europe/Helsinki:20210705T163000
DTSTAMP:20260423T092827
CREATED:20210702T153051Z
LAST-MODIFIED:20210702T153051Z
UID:73157-1625495400-1625502600@www.confindustria.sa.it
SUMMARY:Webinar : Design di Lusso\, question time con il professor Antonio Catalani
DESCRIPTION:a cura del Gruppo Design tessile e sistema casa \npartecipa il presidente del gruppo E.Prete \nAnnamaria Laurenzano
URL:https://www.confindustria.sa.it/event/webinar-design-di-lusso-question-time-con-il-professor-antonio-catalani-3/
CATEGORIES:eventi-confindustria,Riunioni varie
END:VEVENT
BEGIN:VEVENT
DTSTART;TZID=Europe/Helsinki:20210705T143000
DTEND;TZID=Europe/Helsinki:20210705T163000
DTSTAMP:20260423T092827
CREATED:20210702T153051Z
LAST-MODIFIED:20210702T153051Z
UID:33588-1625495400-1625502600@www.confindustria.sa.it
SUMMARY:Webinar : Design di Lusso\, question time con il professor Antonio Catalani
DESCRIPTION:a cura del Gruppo Design tessile e sistema casa \npartecipa il presidente del gruppo E.Prete \nAnnamaria Laurenzano
URL:https://www.confindustria.sa.it/event/webinar-design-di-lusso-question-time-con-il-professor-antonio-catalani/
CATEGORIES:eventi-confindustria,Riunioni varie
END:VEVENT
BEGIN:VEVENT
DTSTART;TZID=Europe/Helsinki:20210705T150000
DTEND;TZID=Europe/Helsinki:20210705T170000
DTSTAMP:20260423T092827
CREATED:20210702T152918Z
LAST-MODIFIED:20210702T152918Z
UID:72133-1625497200-1625504400@www.confindustria.sa.it
SUMMARY:webinar Bando ISI -Inail 2020
DESCRIPTION:partecipa la vicepresidente delegata alla Sicurezza L.Piccolo \nAnnamaria Laurenzano
URL:https://www.confindustria.sa.it/event/webinar-bando-isi-inail-2020-2/
LOCATION:confindustria salerno
CATEGORIES:Riunioni varie
ATTACH;FMTTYPE=image/png:https://www.confindustria.sa.it/wp-content/uploads/2020/07/LogoConfindustria1.png
END:VEVENT
BEGIN:VEVENT
DTSTART;TZID=Europe/Helsinki:20210705T150000
DTEND;TZID=Europe/Helsinki:20210705T170000
DTSTAMP:20260423T092827
CREATED:20210702T152918Z
LAST-MODIFIED:20210702T152918Z
UID:73156-1625497200-1625504400@www.confindustria.sa.it
SUMMARY:webinar Bando ISI -Inail 2020
DESCRIPTION:partecipa la vicepresidente delegata alla Sicurezza L.Piccolo \nAnnamaria Laurenzano
URL:https://www.confindustria.sa.it/event/webinar-bando-isi-inail-2020-3/
LOCATION:confindustria salerno
CATEGORIES:Riunioni varie
ATTACH;FMTTYPE=image/png:https://www.confindustria.sa.it/wp-content/uploads/2020/07/LogoConfindustria1.png
END:VEVENT
BEGIN:VEVENT
DTSTART;TZID=Europe/Helsinki:20210705T150000
DTEND;TZID=Europe/Helsinki:20210705T170000
DTSTAMP:20260423T092827
CREATED:20210702T152918Z
LAST-MODIFIED:20210705T162355Z
UID:33586-1625497200-1625504400@www.confindustria.sa.it
SUMMARY:webinar Bando ISI -Inail 2020
DESCRIPTION:partecipa la vicepresidente delegata alla Sicurezza L.Piccolo \nAnnamaria Laurenzano
URL:https://www.confindustria.sa.it/event/webinar-bando-isi-inail-2020/
LOCATION:confindustria salerno
CATEGORIES:Riunioni varie
ATTACH;FMTTYPE=image/png:https://www.confindustria.sa.it/wp-content/uploads/2020/07/LogoConfindustria1.png
END:VEVENT
BEGIN:VEVENT
DTSTART;TZID=Europe/Helsinki:20210706T170000
DTEND;TZID=Europe/Helsinki:20210706T183000
DTSTAMP:20260423T092827
CREATED:20210629T112852Z
LAST-MODIFIED:20210629T112852Z
UID:33346-1625590800-1625596200@www.confindustria.sa.it
SUMMARY:"Il talento della manifattura. Idee e percorsi per lo sviluppo sostenibile delle Pmi"
DESCRIPTION:Evento organizzato da Confindustria Umbria. Partecipa la Vice Presidente Lina Piccolo \nIl talento della manifattura_6_luglio_21 – programma \nAnnamaria Laurenzano
URL:https://www.confindustria.sa.it/event/il-talento-della-manifattura-idee-e-percorsi-per-lo-sviluppo-sostenibile-delle-pmi/
LOCATION:Assisi\, Hotel Cenacolo
CATEGORIES:Riunioni varie
ATTACH;FMTTYPE=image/jpeg:https://www.confindustria.sa.it/wp-content/uploads/2019/12/1confindustria_images_annafabi_thumb_medium256_192.jpg
END:VEVENT
BEGIN:VEVENT
DTSTART;TZID=Europe/Helsinki:20210706T170000
DTEND;TZID=Europe/Helsinki:20210706T183000
DTSTAMP:20260423T092827
CREATED:20210629T112852Z
LAST-MODIFIED:20210629T112852Z
UID:72131-1625590800-1625596200@www.confindustria.sa.it
SUMMARY:\"Il talento della manifattura. Idee e percorsi per lo sviluppo sostenibile delle Pmi\"
DESCRIPTION:Evento organizzato da Confindustria Umbria. Partecipa la Vice Presidente Lina Piccolo \nIl talento della manifattura_6_luglio_21 – programma \nAnnamaria Laurenzano
URL:https://www.confindustria.sa.it/event/il-talento-della-manifattura-idee-e-percorsi-per-lo-sviluppo-sostenibile-delle-pmi-2/
LOCATION:Assisi\, Hotel Cenacolo
CATEGORIES:Riunioni varie
ATTACH;FMTTYPE=image/jpeg:https://www.confindustria.sa.it/wp-content/uploads/2019/12/1confindustria_images_annafabi_thumb_medium256_192.jpg
END:VEVENT
BEGIN:VEVENT
DTSTART;TZID=Europe/Helsinki:20210706T170000
DTEND;TZID=Europe/Helsinki:20210706T183000
DTSTAMP:20260423T092827
CREATED:20210629T112852Z
LAST-MODIFIED:20210629T112852Z
UID:73154-1625590800-1625596200@www.confindustria.sa.it
SUMMARY:\"Il talento della manifattura. Idee e percorsi per lo sviluppo sostenibile delle Pmi\"
DESCRIPTION:Evento organizzato da Confindustria Umbria. Partecipa la Vice Presidente Lina Piccolo \nIl talento della manifattura_6_luglio_21 – programma \nAnnamaria Laurenzano
URL:https://www.confindustria.sa.it/event/il-talento-della-manifattura-idee-e-percorsi-per-lo-sviluppo-sostenibile-delle-pmi-3/
LOCATION:Assisi\, Hotel Cenacolo
CATEGORIES:Riunioni varie
ATTACH;FMTTYPE=image/jpeg:https://www.confindustria.sa.it/wp-content/uploads/2019/12/1confindustria_images_annafabi_thumb_medium256_192.jpg
END:VEVENT
BEGIN:VEVENT
DTSTART;TZID=Europe/Helsinki:20210707T151500
DTEND;TZID=Europe/Helsinki:20210707T163000
DTSTAMP:20260423T092827
CREATED:20210701T102703Z
LAST-MODIFIED:20210701T102703Z
UID:33469-1625670900-1625675400@www.confindustria.sa.it
SUMMARY:Commissione Turismo
DESCRIPTION:Partecipa il Presidente G. Puopolo \n  \nAnnamaria Laurenzano
URL:https://www.confindustria.sa.it/event/commissione-turismo/
LOCATION:Napoli – Confindustria Campania
CATEGORIES:Riunioni varie
ATTACH;FMTTYPE=image/png:https://www.confindustria.sa.it/wp-content/uploads/2021/01/logo-confindustria-campania.png
END:VEVENT
BEGIN:VEVENT
DTSTART;TZID=Europe/Helsinki:20210707T151500
DTEND;TZID=Europe/Helsinki:20210707T163000
DTSTAMP:20260423T092827
CREATED:20210701T102703Z
LAST-MODIFIED:20210701T102703Z
UID:72132-1625670900-1625675400@www.confindustria.sa.it
SUMMARY:Commissione Turismo
DESCRIPTION:Partecipa il Presidente G. Puopolo \n  \nAnnamaria Laurenzano
URL:https://www.confindustria.sa.it/event/commissione-turismo-2/
LOCATION:Napoli – Confindustria Campania
CATEGORIES:Riunioni varie
ATTACH;FMTTYPE=image/png:https://www.confindustria.sa.it/wp-content/uploads/2021/01/logo-confindustria-campania.png
END:VEVENT
BEGIN:VEVENT
DTSTART;TZID=Europe/Helsinki:20210707T151500
DTEND;TZID=Europe/Helsinki:20210707T163000
DTSTAMP:20260423T092827
CREATED:20210701T102703Z
LAST-MODIFIED:20210701T102703Z
UID:73155-1625670900-1625675400@www.confindustria.sa.it
SUMMARY:Commissione Turismo
DESCRIPTION:Partecipa il Presidente G. Puopolo \n  \nAnnamaria Laurenzano
URL:https://www.confindustria.sa.it/event/commissione-turismo-3/
LOCATION:Napoli – Confindustria Campania
CATEGORIES:Riunioni varie
ATTACH;FMTTYPE=image/png:https://www.confindustria.sa.it/wp-content/uploads/2021/01/logo-confindustria-campania.png
END:VEVENT
END:VCALENDAR