BEGIN:VCALENDAR
VERSION:2.0
PRODID:-//Confindustria Salerno - ECPv6.6.3//NONSGML v1.0//EN
CALSCALE:GREGORIAN
METHOD:PUBLISH
X-WR-CALNAME:Confindustria Salerno
X-ORIGINAL-URL:https://www.confindustria.sa.it
X-WR-CALDESC:Eventi per Confindustria Salerno
REFRESH-INTERVAL;VALUE=DURATION:PT1H
X-Robots-Tag:noindex
X-PUBLISHED-TTL:PT1H
BEGIN:VTIMEZONE
TZID:Europe/Helsinki
BEGIN:DAYLIGHT
TZOFFSETFROM:+0200
TZOFFSETTO:+0300
TZNAME:EEST
DTSTART:20200329T010000
END:DAYLIGHT
BEGIN:STANDARD
TZOFFSETFROM:+0300
TZOFFSETTO:+0200
TZNAME:EET
DTSTART:20201025T010000
END:STANDARD
BEGIN:DAYLIGHT
TZOFFSETFROM:+0200
TZOFFSETTO:+0300
TZNAME:EEST
DTSTART:20210328T010000
END:DAYLIGHT
BEGIN:STANDARD
TZOFFSETFROM:+0300
TZOFFSETTO:+0200
TZNAME:EET
DTSTART:20211031T010000
END:STANDARD
END:VTIMEZONE
BEGIN:VEVENT
DTSTART;TZID=Europe/Helsinki:20201207T153000
DTEND;TZID=Europe/Helsinki:20201207T173000
DTSTAMP:20260424T014851
CREATED:20201201T114512Z
LAST-MODIFIED:20201201T114512Z
UID:71989-1607355000-1607362200@www.confindustria.sa.it
SUMMARY:Consiglio di Presidenza Confindustria Campania\, in modalità telematica
DESCRIPTION:Partecipa il Presidente Andrea Prete \nAnnamaria Laurenzano
URL:https://www.confindustria.sa.it/event/consiglio-di-presidenza-confindustria-campania-in-modalita-telematica-2/
CATEGORIES:Riunioni varie
ATTACH;FMTTYPE=image/jpeg:https://www.confindustria.sa.it/wp-content/uploads/2020/03/1confindustria_images_annafabi_thumb_medium256_192.jpg
END:VEVENT
BEGIN:VEVENT
DTSTART;TZID=Europe/Helsinki:20201207T153000
DTEND;TZID=Europe/Helsinki:20201207T173000
DTSTAMP:20260424T014851
CREATED:20201201T114512Z
LAST-MODIFIED:20201201T114512Z
UID:73012-1607355000-1607362200@www.confindustria.sa.it
SUMMARY:Consiglio di Presidenza Confindustria Campania\, in modalità telematica
DESCRIPTION:Partecipa il Presidente Andrea Prete \nAnnamaria Laurenzano
URL:https://www.confindustria.sa.it/event/consiglio-di-presidenza-confindustria-campania-in-modalita-telematica-3/
CATEGORIES:Riunioni varie
ATTACH;FMTTYPE=image/jpeg:https://www.confindustria.sa.it/wp-content/uploads/2020/03/1confindustria_images_annafabi_thumb_medium256_192.jpg
END:VEVENT
BEGIN:VEVENT
DTSTART;TZID=Europe/Helsinki:20201207T153000
DTEND;TZID=Europe/Helsinki:20201207T173000
DTSTAMP:20260424T014851
CREATED:20201201T114512Z
LAST-MODIFIED:20201201T114512Z
UID:21648-1607355000-1607362200@www.confindustria.sa.it
SUMMARY:Consiglio di Presidenza Confindustria Campania\, in modalità telematica
DESCRIPTION:Partecipa il Presidente Andrea Prete \nAnnamaria Laurenzano
URL:https://www.confindustria.sa.it/event/consiglio-di-presidenza-confindustria-campania-in-modalita-telematica/
CATEGORIES:Riunioni varie
ATTACH;FMTTYPE=image/jpeg:https://www.confindustria.sa.it/wp-content/uploads/2020/03/1confindustria_images_annafabi_thumb_medium256_192.jpg
END:VEVENT
BEGIN:VEVENT
DTSTART;TZID=Europe/Helsinki:20201210T093000
DTEND;TZID=Europe/Helsinki:20201210T170000
DTSTAMP:20260424T014851
CREATED:20201203T110208Z
LAST-MODIFIED:20201203T110208Z
UID:71990-1607592600-1607619600@www.confindustria.sa.it
SUMMARY:Webinar \"R&I PEERS PROJECT 6th VIRTUAL PROJECT MEETING\"
DESCRIPTION:Partecipa Alessandra Puglisi \nAnnamaria Laurenzano
URL:https://www.confindustria.sa.it/event/webinar-ri-peers-project-6th-virtual-project-meeting-2/
CATEGORIES:Riunioni varie
ATTACH;FMTTYPE=image/jpeg:https://www.confindustria.sa.it/wp-content/uploads/2020/07/logo-confsa.jpg
END:VEVENT
BEGIN:VEVENT
DTSTART;TZID=Europe/Helsinki:20201210T093000
DTEND;TZID=Europe/Helsinki:20201210T170000
DTSTAMP:20260424T014851
CREATED:20201203T110208Z
LAST-MODIFIED:20201203T110208Z
UID:73013-1607592600-1607619600@www.confindustria.sa.it
SUMMARY:Webinar \"R&I PEERS PROJECT 6th VIRTUAL PROJECT MEETING\"
DESCRIPTION:Partecipa Alessandra Puglisi \nAnnamaria Laurenzano
URL:https://www.confindustria.sa.it/event/webinar-ri-peers-project-6th-virtual-project-meeting-3/
CATEGORIES:Riunioni varie
ATTACH;FMTTYPE=image/jpeg:https://www.confindustria.sa.it/wp-content/uploads/2020/07/logo-confsa.jpg
END:VEVENT
BEGIN:VEVENT
DTSTART;TZID=Europe/Helsinki:20201210T093000
DTEND;TZID=Europe/Helsinki:20201210T170000
DTSTAMP:20260424T014851
CREATED:20201203T110208Z
LAST-MODIFIED:20201203T110208Z
UID:21745-1607592600-1607619600@www.confindustria.sa.it
SUMMARY:Webinar "R&I PEERS PROJECT 6th VIRTUAL PROJECT MEETING"
DESCRIPTION:Partecipa Alessandra Puglisi \nAnnamaria Laurenzano
URL:https://www.confindustria.sa.it/event/webinar-ri-peers-project-6th-virtual-project-meeting/
CATEGORIES:Riunioni varie
ATTACH;FMTTYPE=image/jpeg:https://www.confindustria.sa.it/wp-content/uploads/2020/07/logo-confsa.jpg
END:VEVENT
BEGIN:VEVENT
DTSTART;TZID=Europe/Helsinki:20201215T143000
DTEND;TZID=Europe/Helsinki:20201215T170000
DTSTAMP:20260424T014851
CREATED:20201214T103908Z
LAST-MODIFIED:20201214T103908Z
UID:71996-1608042600-1608051600@www.confindustria.sa.it
SUMMARY:Incontro vertice CNCT\, in web conference
DESCRIPTION:Partecipa Edoardo Gisolfi \nAnnamaria Laurenzano
URL:https://www.confindustria.sa.it/event/incontro-vertice-cnct-in-web-conference-2/
CATEGORIES:Riunioni varie
ATTACH;FMTTYPE=image/jpeg:https://www.confindustria.sa.it/wp-content/uploads/2020/03/1confindustria_images_annafabi_thumb_medium256_192.jpg
END:VEVENT
BEGIN:VEVENT
DTSTART;TZID=Europe/Helsinki:20201215T143000
DTEND;TZID=Europe/Helsinki:20201215T170000
DTSTAMP:20260424T014851
CREATED:20201214T103908Z
LAST-MODIFIED:20201214T103908Z
UID:73019-1608042600-1608051600@www.confindustria.sa.it
SUMMARY:Incontro vertice CNCT\, in web conference
DESCRIPTION:Partecipa Edoardo Gisolfi \nAnnamaria Laurenzano
URL:https://www.confindustria.sa.it/event/incontro-vertice-cnct-in-web-conference-3/
CATEGORIES:Riunioni varie
ATTACH;FMTTYPE=image/jpeg:https://www.confindustria.sa.it/wp-content/uploads/2020/03/1confindustria_images_annafabi_thumb_medium256_192.jpg
END:VEVENT
BEGIN:VEVENT
DTSTART;TZID=Europe/Helsinki:20201215T143000
DTEND;TZID=Europe/Helsinki:20201215T170000
DTSTAMP:20260424T014851
CREATED:20201214T103908Z
LAST-MODIFIED:20201214T103908Z
UID:22247-1608042600-1608051600@www.confindustria.sa.it
SUMMARY:Incontro vertice CNCT\, in web conference
DESCRIPTION:Partecipa Edoardo Gisolfi \nAnnamaria Laurenzano
URL:https://www.confindustria.sa.it/event/incontro-vertice-cnct-in-web-conference/
CATEGORIES:Riunioni varie
ATTACH;FMTTYPE=image/jpeg:https://www.confindustria.sa.it/wp-content/uploads/2020/03/1confindustria_images_annafabi_thumb_medium256_192.jpg
END:VEVENT
BEGIN:VEVENT
DTSTART;TZID=Europe/Helsinki:20201222T150000
DTEND;TZID=Europe/Helsinki:20201222T170000
DTSTAMP:20260424T014851
CREATED:20201217T154944Z
LAST-MODIFIED:20201217T154944Z
UID:71997-1608649200-1608656400@www.confindustria.sa.it
SUMMARY:WEBINAR DESTINAZIONE OUTDOOR: COME SI STRUTTURA E SI VENDE UNA DESTINAZIONE PER ASSICURARE ESPERIENZE ALL\'ARIA APERTA\, PER VIVERE PIENAMENTE IL TERRITORIO
DESCRIPTION:LOCANDINA WEBINAR 22 DICEMBRE IMPRESE TURISTICHE \nAnnamaria Laurenzano
URL:https://www.confindustria.sa.it/event/webinar-22-dicembre-2020-1500-1630-destinazione-outdoor-come-si-struttura-e-si-vende-una-destinazione-per-assicurare-esperienze-allaria-aperta-per-vivere-pienamente-il-territorio-2/
CATEGORIES:Riunioni varie
END:VEVENT
BEGIN:VEVENT
DTSTART;TZID=Europe/Helsinki:20201222T150000
DTEND;TZID=Europe/Helsinki:20201222T170000
DTSTAMP:20260424T014851
CREATED:20201217T154944Z
LAST-MODIFIED:20201217T154944Z
UID:73020-1608649200-1608656400@www.confindustria.sa.it
SUMMARY:WEBINAR DESTINAZIONE OUTDOOR: COME SI STRUTTURA E SI VENDE UNA DESTINAZIONE PER ASSICURARE ESPERIENZE ALL\'ARIA APERTA\, PER VIVERE PIENAMENTE IL TERRITORIO
DESCRIPTION:LOCANDINA WEBINAR 22 DICEMBRE IMPRESE TURISTICHE \nAnnamaria Laurenzano
URL:https://www.confindustria.sa.it/event/webinar-22-dicembre-2020-1500-1630-destinazione-outdoor-come-si-struttura-e-si-vende-una-destinazione-per-assicurare-esperienze-allaria-aperta-per-vivere-pienamente-il-territorio-3/
CATEGORIES:Riunioni varie
END:VEVENT
BEGIN:VEVENT
DTSTART;TZID=Europe/Helsinki:20201222T150000
DTEND;TZID=Europe/Helsinki:20201222T170000
DTSTAMP:20260424T014851
CREATED:20201217T154944Z
LAST-MODIFIED:20201217T160206Z
UID:22594-1608649200-1608656400@www.confindustria.sa.it
SUMMARY:WEBINAR DESTINAZIONE OUTDOOR: COME SI STRUTTURA E SI VENDE UNA DESTINAZIONE PER ASSICURARE ESPERIENZE ALL'ARIA APERTA\, PER VIVERE PIENAMENTE IL TERRITORIO
DESCRIPTION:LOCANDINA WEBINAR 22 DICEMBRE IMPRESE TURISTICHE \nAnnamaria Laurenzano
URL:https://www.confindustria.sa.it/event/webinar-22-dicembre-2020-1500-1630-destinazione-outdoor-come-si-struttura-e-si-vende-una-destinazione-per-assicurare-esperienze-allaria-aperta-per-vivere-pienamente-il-territorio/
CATEGORIES:Riunioni varie
END:VEVENT
BEGIN:VEVENT
DTSTART;TZID=Europe/Helsinki:20210120T160000
DTEND;TZID=Europe/Helsinki:20210120T170000
DTSTAMP:20260424T014851
CREATED:20210112T154130Z
LAST-MODIFIED:20210112T154130Z
UID:72002-1611158400-1611162000@www.confindustria.sa.it
SUMMARY:Consiglio Direttivo Comitato Femminile Plurale
DESCRIPTION:Partecipa la Presidente Alessandra Puglisi \nAnnamaria Laurenzano
URL:https://www.confindustria.sa.it/event/consiglio-direttivo-comitato-femminile-plurale-2-2/
CATEGORIES:Riunioni varie
ATTACH;FMTTYPE=image/jpeg:https://www.confindustria.sa.it/wp-content/uploads/2020/07/logo-confsa.jpg
END:VEVENT
BEGIN:VEVENT
DTSTART;TZID=Europe/Helsinki:20210120T160000
DTEND;TZID=Europe/Helsinki:20210120T170000
DTSTAMP:20260424T014851
CREATED:20210112T154130Z
LAST-MODIFIED:20210112T154130Z
UID:73025-1611158400-1611162000@www.confindustria.sa.it
SUMMARY:Consiglio Direttivo Comitato Femminile Plurale
DESCRIPTION:Partecipa la Presidente Alessandra Puglisi \nAnnamaria Laurenzano
URL:https://www.confindustria.sa.it/event/consiglio-direttivo-comitato-femminile-plurale-2-3/
CATEGORIES:Riunioni varie
ATTACH;FMTTYPE=image/jpeg:https://www.confindustria.sa.it/wp-content/uploads/2020/07/logo-confsa.jpg
END:VEVENT
BEGIN:VEVENT
DTSTART;TZID=Europe/Helsinki:20210120T160000
DTEND;TZID=Europe/Helsinki:20210120T170000
DTSTAMP:20260424T014851
CREATED:20210112T154130Z
LAST-MODIFIED:20210112T154130Z
UID:23258-1611158400-1611162000@www.confindustria.sa.it
SUMMARY:Consiglio Direttivo Comitato Femminile Plurale
DESCRIPTION:Partecipa la Presidente Alessandra Puglisi \nAnnamaria Laurenzano
URL:https://www.confindustria.sa.it/event/consiglio-direttivo-comitato-femminile-plurale-2/
CATEGORIES:Riunioni varie
ATTACH;FMTTYPE=image/jpeg:https://www.confindustria.sa.it/wp-content/uploads/2020/07/logo-confsa.jpg
END:VEVENT
BEGIN:VEVENT
DTSTART;TZID=Europe/Helsinki:20210125T173000
DTEND;TZID=Europe/Helsinki:20210125T173000
DTSTAMP:20260424T014851
CREATED:20210118T104915Z
LAST-MODIFIED:20210118T104915Z
UID:72005-1611595800-1611595800@www.confindustria.sa.it
SUMMARY:Webinar \"Recovery Plan: opportunità e futuro delle PMI\"
DESCRIPTION:Partecipa Edoardo Gisolfi \nAnnamaria Laurenzano
URL:https://www.confindustria.sa.it/event/webinar-recovery-plan-opportunita-e-futuro-delle-pmi-2/
CATEGORIES:Riunioni varie
ATTACH;FMTTYPE=image/jpeg:https://www.confindustria.sa.it/wp-content/uploads/2020/03/1confindustria_images_annafabi_thumb_medium256_192.jpg
END:VEVENT
BEGIN:VEVENT
DTSTART;TZID=Europe/Helsinki:20210125T173000
DTEND;TZID=Europe/Helsinki:20210125T173000
DTSTAMP:20260424T014851
CREATED:20210118T104915Z
LAST-MODIFIED:20210118T104915Z
UID:73028-1611595800-1611595800@www.confindustria.sa.it
SUMMARY:Webinar \"Recovery Plan: opportunità e futuro delle PMI\"
DESCRIPTION:Partecipa Edoardo Gisolfi \nAnnamaria Laurenzano
URL:https://www.confindustria.sa.it/event/webinar-recovery-plan-opportunita-e-futuro-delle-pmi-3/
CATEGORIES:Riunioni varie
ATTACH;FMTTYPE=image/jpeg:https://www.confindustria.sa.it/wp-content/uploads/2020/03/1confindustria_images_annafabi_thumb_medium256_192.jpg
END:VEVENT
BEGIN:VEVENT
DTSTART;TZID=Europe/Helsinki:20210125T173000
DTEND;TZID=Europe/Helsinki:20210125T173000
DTSTAMP:20260424T014851
CREATED:20210118T104915Z
LAST-MODIFIED:20210118T104915Z
UID:23554-1611595800-1611595800@www.confindustria.sa.it
SUMMARY:Webinar "Recovery Plan: opportunità e futuro delle PMI"
DESCRIPTION:Partecipa Edoardo Gisolfi \nAnnamaria Laurenzano
URL:https://www.confindustria.sa.it/event/webinar-recovery-plan-opportunita-e-futuro-delle-pmi/
CATEGORIES:Riunioni varie
ATTACH;FMTTYPE=image/jpeg:https://www.confindustria.sa.it/wp-content/uploads/2020/03/1confindustria_images_annafabi_thumb_medium256_192.jpg
END:VEVENT
BEGIN:VEVENT
DTSTART;TZID=Europe/Helsinki:20210201T160000
DTEND;TZID=Europe/Helsinki:20210201T170000
DTSTAMP:20260424T014851
CREATED:20210126T122503Z
LAST-MODIFIED:20210126T122503Z
UID:24106-1612195200-1612198800@www.confindustria.sa.it
SUMMARY:Consiglio di Presidenza di Confindustria Campania
DESCRIPTION:Partecipano Andrea Prete ed Antonio Ferraioli \nAnnamaria Laurenzano
URL:https://www.confindustria.sa.it/event/consiglio-di-presidenza-di-confindustria-campania/
LOCATION:confindustria salerno
CATEGORIES:Riunioni varie
ATTACH;FMTTYPE=image/png:https://www.confindustria.sa.it/wp-content/uploads/2021/01/logo-confindustria-campania.png
END:VEVENT
BEGIN:VEVENT
DTSTART;TZID=Europe/Helsinki:20210201T160000
DTEND;TZID=Europe/Helsinki:20210201T170000
DTSTAMP:20260424T014851
CREATED:20210126T122503Z
LAST-MODIFIED:20210126T122503Z
UID:72008-1612195200-1612198800@www.confindustria.sa.it
SUMMARY:Consiglio di Presidenza di Confindustria Campania
DESCRIPTION:Partecipano Andrea Prete ed Antonio Ferraioli \nAnnamaria Laurenzano
URL:https://www.confindustria.sa.it/event/consiglio-di-presidenza-di-confindustria-campania-8/
LOCATION:confindustria salerno
CATEGORIES:Riunioni varie
ATTACH;FMTTYPE=image/png:https://www.confindustria.sa.it/wp-content/uploads/2021/01/logo-confindustria-campania.png
END:VEVENT
BEGIN:VEVENT
DTSTART;TZID=Europe/Helsinki:20210201T160000
DTEND;TZID=Europe/Helsinki:20210201T170000
DTSTAMP:20260424T014851
CREATED:20210126T122503Z
LAST-MODIFIED:20210126T122503Z
UID:73031-1612195200-1612198800@www.confindustria.sa.it
SUMMARY:Consiglio di Presidenza di Confindustria Campania
DESCRIPTION:Partecipano Andrea Prete ed Antonio Ferraioli \nAnnamaria Laurenzano
URL:https://www.confindustria.sa.it/event/consiglio-di-presidenza-di-confindustria-campania-9/
LOCATION:confindustria salerno
CATEGORIES:Riunioni varie
ATTACH;FMTTYPE=image/png:https://www.confindustria.sa.it/wp-content/uploads/2021/01/logo-confindustria-campania.png
END:VEVENT
BEGIN:VEVENT
DTSTART;TZID=Europe/Helsinki:20210205T100000
DTEND;TZID=Europe/Helsinki:20210205T170000
DTSTAMP:20260424T014851
CREATED:20210129T120401Z
LAST-MODIFIED:20210129T123355Z
UID:24407-1612519200-1612544400@www.confindustria.sa.it
SUMMARY:Webinar “BANCOPASS: uno strumento semplice per raccontare l’azienda e facilitare il dialogo con banche e finanziatori”
DESCRIPTION:Partecipa il Vice Presidente delegato al Credito\, Antonio Sada \n  \nAnnamaria Laurenzano
URL:https://www.confindustria.sa.it/event/webinar-bancopass-uno-strumento-semplice-per-raccontare-lazienda-e-facilitare-il-dialogo-con-banche-e-finanziatori/
CATEGORIES:Riunioni varie
ATTACH;FMTTYPE=image/jpeg:https://www.confindustria.sa.it/wp-content/uploads/2021/01/Bancopass_Programma-webinar-5feb21.jpg
END:VEVENT
BEGIN:VEVENT
DTSTART;TZID=Europe/Helsinki:20210205T100000
DTEND;TZID=Europe/Helsinki:20210205T170000
DTSTAMP:20260424T014851
CREATED:20210129T120401Z
LAST-MODIFIED:20210129T120401Z
UID:72009-1612519200-1612544400@www.confindustria.sa.it
SUMMARY:Webinar “BANCOPASS: uno strumento semplice per raccontare l’azienda e facilitare il dialogo con banche e finanziatori”
DESCRIPTION:Partecipa il Vice Presidente delegato al Credito\, Antonio Sada \n  \nAnnamaria Laurenzano
URL:https://www.confindustria.sa.it/event/webinar-bancopass-uno-strumento-semplice-per-raccontare-lazienda-e-facilitare-il-dialogo-con-banche-e-finanziatori-2/
CATEGORIES:Riunioni varie
ATTACH;FMTTYPE=image/jpeg:https://www.confindustria.sa.it/wp-content/uploads/2021/01/Bancopass_Programma-webinar-5feb21.jpg
END:VEVENT
BEGIN:VEVENT
DTSTART;TZID=Europe/Helsinki:20210205T100000
DTEND;TZID=Europe/Helsinki:20210205T170000
DTSTAMP:20260424T014851
CREATED:20210129T120401Z
LAST-MODIFIED:20210129T120401Z
UID:73032-1612519200-1612544400@www.confindustria.sa.it
SUMMARY:Webinar “BANCOPASS: uno strumento semplice per raccontare l’azienda e facilitare il dialogo con banche e finanziatori”
DESCRIPTION:Partecipa il Vice Presidente delegato al Credito\, Antonio Sada \n  \nAnnamaria Laurenzano
URL:https://www.confindustria.sa.it/event/webinar-bancopass-uno-strumento-semplice-per-raccontare-lazienda-e-facilitare-il-dialogo-con-banche-e-finanziatori-3/
CATEGORIES:Riunioni varie
ATTACH;FMTTYPE=image/jpeg:https://www.confindustria.sa.it/wp-content/uploads/2021/01/Bancopass_Programma-webinar-5feb21.jpg
END:VEVENT
BEGIN:VEVENT
DTSTART;TZID=Europe/Helsinki:20210209T150000
DTEND;TZID=Europe/Helsinki:20210209T170000
DTSTAMP:20260424T014851
CREATED:20210205T153418Z
LAST-MODIFIED:20210205T153418Z
UID:72013-1612882800-1612890000@www.confindustria.sa.it
SUMMARY:Consiglio Direttivo del Gruppo Alberghi\, Turismo e Tempo Libero
DESCRIPTION:Partecipa il Presidente G. Puopolo \n  \nAnnamaria Laurenzano
URL:https://www.confindustria.sa.it/event/consiglio-direttivo-del-gruppo-alberghi-turismo-e-tempo-libero-5/
LOCATION:confindustria salerno
CATEGORIES:Riunioni varie
ATTACH;FMTTYPE=image/png:https://www.confindustria.sa.it/wp-content/uploads/2020/07/LogoConfindustria1-1.png
END:VEVENT
BEGIN:VEVENT
DTSTART;TZID=Europe/Helsinki:20210209T150000
DTEND;TZID=Europe/Helsinki:20210209T170000
DTSTAMP:20260424T014851
CREATED:20210205T153418Z
LAST-MODIFIED:20210205T153418Z
UID:73036-1612882800-1612890000@www.confindustria.sa.it
SUMMARY:Consiglio Direttivo del Gruppo Alberghi\, Turismo e Tempo Libero
DESCRIPTION:Partecipa il Presidente G. Puopolo \n  \nAnnamaria Laurenzano
URL:https://www.confindustria.sa.it/event/consiglio-direttivo-del-gruppo-alberghi-turismo-e-tempo-libero-6/
LOCATION:confindustria salerno
CATEGORIES:Riunioni varie
ATTACH;FMTTYPE=image/png:https://www.confindustria.sa.it/wp-content/uploads/2020/07/LogoConfindustria1-1.png
END:VEVENT
BEGIN:VEVENT
DTSTART;TZID=Europe/Helsinki:20210209T150000
DTEND;TZID=Europe/Helsinki:20210209T170000
DTSTAMP:20260424T014851
CREATED:20210205T153418Z
LAST-MODIFIED:20210205T153418Z
UID:24859-1612882800-1612890000@www.confindustria.sa.it
SUMMARY:Consiglio Direttivo del Gruppo Alberghi\, Turismo e Tempo Libero
DESCRIPTION:Partecipa il Presidente G. Puopolo \n  \nAnnamaria Laurenzano
URL:https://www.confindustria.sa.it/event/consiglio-direttivo-del-gruppo-alberghi-turismo-e-tempo-libero/
LOCATION:confindustria salerno
CATEGORIES:Riunioni varie
ATTACH;FMTTYPE=image/png:https://www.confindustria.sa.it/wp-content/uploads/2020/07/LogoConfindustria1-1.png
END:VEVENT
BEGIN:VEVENT
DTSTART;TZID=Europe/Helsinki:20210209T153000
DTEND;TZID=Europe/Helsinki:20210209T170000
DTSTAMP:20260424T014851
CREATED:20210202T102406Z
LAST-MODIFIED:20210202T102406Z
UID:72012-1612884600-1612890000@www.confindustria.sa.it
SUMMARY:Consiglio Direttivo Gruppo Metalmeccanico
DESCRIPTION:partecipa il presidente P.Gaito \nAnnamaria Laurenzano
URL:https://www.confindustria.sa.it/event/consiglio-direttivo-gruppo-metalmeccanico-2-2/
LOCATION:Confindustria Salerno
CATEGORIES:Riunioni varie
ATTACH;FMTTYPE=image/png:https://www.confindustria.sa.it/wp-content/uploads/2020/07/LogoConfindustria1-1.png
END:VEVENT
BEGIN:VEVENT
DTSTART;TZID=Europe/Helsinki:20210209T153000
DTEND;TZID=Europe/Helsinki:20210209T170000
DTSTAMP:20260424T014851
CREATED:20210202T102406Z
LAST-MODIFIED:20210202T102406Z
UID:73035-1612884600-1612890000@www.confindustria.sa.it
SUMMARY:Consiglio Direttivo Gruppo Metalmeccanico
DESCRIPTION:partecipa il presidente P.Gaito \nAnnamaria Laurenzano
URL:https://www.confindustria.sa.it/event/consiglio-direttivo-gruppo-metalmeccanico-2-3/
LOCATION:Confindustria Salerno
CATEGORIES:Riunioni varie
ATTACH;FMTTYPE=image/png:https://www.confindustria.sa.it/wp-content/uploads/2020/07/LogoConfindustria1-1.png
END:VEVENT
BEGIN:VEVENT
DTSTART;TZID=Europe/Helsinki:20210209T153000
DTEND;TZID=Europe/Helsinki:20210209T170000
DTSTAMP:20260424T014851
CREATED:20210202T102406Z
LAST-MODIFIED:20210202T102406Z
UID:24572-1612884600-1612890000@www.confindustria.sa.it
SUMMARY:Consiglio Direttivo Gruppo Metalmeccanico
DESCRIPTION:partecipa il presidente P.Gaito \nAnnamaria Laurenzano
URL:https://www.confindustria.sa.it/event/consiglio-direttivo-gruppo-metalmeccanico-2/
LOCATION:Confindustria Salerno
CATEGORIES:Riunioni varie
ATTACH;FMTTYPE=image/png:https://www.confindustria.sa.it/wp-content/uploads/2020/07/LogoConfindustria1-1.png
END:VEVENT
END:VCALENDAR