BEGIN:VCALENDAR
VERSION:2.0
PRODID:-//Confindustria Salerno - ECPv6.6.3//NONSGML v1.0//EN
CALSCALE:GREGORIAN
METHOD:PUBLISH
X-WR-CALNAME:Confindustria Salerno
X-ORIGINAL-URL:https://www.confindustria.sa.it
X-WR-CALDESC:Eventi per Confindustria Salerno
REFRESH-INTERVAL;VALUE=DURATION:PT1H
X-Robots-Tag:noindex
X-PUBLISHED-TTL:PT1H
BEGIN:VTIMEZONE
TZID:Europe/Helsinki
BEGIN:DAYLIGHT
TZOFFSETFROM:+0200
TZOFFSETTO:+0300
TZNAME:EEST
DTSTART:20250330T010000
END:DAYLIGHT
BEGIN:STANDARD
TZOFFSETFROM:+0300
TZOFFSETTO:+0200
TZNAME:EET
DTSTART:20251026T010000
END:STANDARD
END:VTIMEZONE
BEGIN:VEVENT
DTSTART;TZID=Europe/Helsinki:20250114T150000
DTEND;TZID=Europe/Helsinki:20250114T170000
DTSTAMP:20260419T162602
CREATED:20250113T092418Z
LAST-MODIFIED:20250113T092418Z
UID:90300-1736866800-1736874000@www.confindustria.sa.it
SUMMARY:Consiglio Direttivo Comitato Femminile
DESCRIPTION:partecipa il presidente Elena Salzano \nAnnamaria Laurenzano
URL:https://www.confindustria.sa.it/event/consiglio-direttivo-comitato-femminile/
LOCATION:online
CATEGORIES:Riunioni varie
ATTACH;FMTTYPE=image/jpeg:https://www.confindustria.sa.it/wp-content/uploads/2020/07/logo-confsa.jpg
END:VEVENT
BEGIN:VEVENT
DTSTART;TZID=Europe/Helsinki:20250116T140000
DTEND;TZID=Europe/Helsinki:20250116T170000
DTSTAMP:20260419T162602
CREATED:20250110T162144Z
LAST-MODIFIED:20250110T162144Z
UID:90293-1737036000-1737046800@www.confindustria.sa.it
SUMMARY:corso di formazione Social Crossing Team sul tema “Crisi d’Impresa”
DESCRIPTION:Annamaria Laurenzano
URL:https://www.confindustria.sa.it/event/corso-di-formazione-social-crossing-team-sul-tema-crisi-dimpresa/
LOCATION:Confindustria  Salerno
CATEGORIES:Riunioni varie
ATTACH;FMTTYPE=image/png:https://www.confindustria.sa.it/wp-content/uploads/2020/07/LogoConfindustria1.png
END:VEVENT
BEGIN:VEVENT
DTSTART;TZID=Europe/Helsinki:20250117T103000
DTEND;TZID=Europe/Helsinki:20250117T120000
DTSTAMP:20260419T162602
CREATED:20250110T162334Z
LAST-MODIFIED:20250110T162334Z
UID:90295-1737109800-1737115200@www.confindustria.sa.it
SUMMARY:Presentazione del Contest YOUNG FACTORY DESIGN
DESCRIPTION:partecipa il presidente del Gruppo Design Tessile e sistema Casa Giovanna Basile \nAnnamaria Laurenzano
URL:https://www.confindustria.sa.it/event/presentazione-del-contest-young-factory-design/
LOCATION:Caserta – Università degli Studi della Campania “Luigi Vanvitelli”
CATEGORIES:Riunioni varie
ATTACH;FMTTYPE=image/jpeg:https://www.confindustria.sa.it/wp-content/uploads/2019/09/b-young.jpg
END:VEVENT
BEGIN:VEVENT
DTSTART;TZID=Europe/Helsinki:20250123T153000
DTEND;TZID=Europe/Helsinki:20250123T160000
DTSTAMP:20260419T162602
CREATED:20250113T153020Z
LAST-MODIFIED:20250113T153020Z
UID:90386-1737646200-1737648000@www.confindustria.sa.it
SUMMARY:Consiglio di Presidenza
DESCRIPTION:partecipa il presidente Antonio Ferraioli \nAnnamaria Laurenzano
URL:https://www.confindustria.sa.it/event/consiglio-di-presidenza-28/
LOCATION:Confindustria  Salerno
CATEGORIES:Riunioni varie
ATTACH;FMTTYPE=image/jpeg:https://www.confindustria.sa.it/wp-content/uploads/2020/07/logo-confsa.jpg
END:VEVENT
BEGIN:VEVENT
DTSTART;TZID=Europe/Helsinki:20250123T160000
DTEND;TZID=Europe/Helsinki:20250123T180000
DTSTAMP:20260419T162602
CREATED:20241212T103956Z
LAST-MODIFIED:20250113T152857Z
UID:89550-1737648000-1737655200@www.confindustria.sa.it
SUMMARY:Consiglio Generale
DESCRIPTION:partecipa il presidente Antonio Ferraioli \nAnnamaria Laurenzano
URL:https://www.confindustria.sa.it/event/consiglio-generale-17/
LOCATION:Confindustria  Salerno
CATEGORIES:Riunioni varie
ATTACH;FMTTYPE=image/jpeg:https://www.confindustria.sa.it/wp-content/uploads/2020/07/logo-confsa.jpg
END:VEVENT
BEGIN:VEVENT
DTSTART;TZID=Europe/Helsinki:20250125T100000
DTEND;TZID=Europe/Helsinki:20250125T123000
DTSTAMP:20260419T162602
CREATED:20250124T165837Z
LAST-MODIFIED:20250124T165837Z
UID:90850-1737799200-1737808200@www.confindustria.sa.it
SUMMARY:Assemblea annuale del Presidente della Corte d’Appello e inaugurazione dell’Anno Giudiziario 2025
DESCRIPTION:partecipa la vicepresidente Stefania Rinaldi \nAnnamaria Laurenzano
URL:https://www.confindustria.sa.it/event/assemblea-annuale-del-presidente-della-corte-dappello-e-inaugurazione-dellanno-giudiziario-2025/
LOCATION:Salerno – Aula Magna della cittadella giudiziaria edificio A. Genovesi
CATEGORIES:Riunioni varie
END:VEVENT
BEGIN:VEVENT
DTSTART;TZID=Europe/Helsinki:20250130T103000
DTEND;TZID=Europe/Helsinki:20250130T123000
DTSTAMP:20260419T162602
CREATED:20250124T165950Z
LAST-MODIFIED:20250124T165950Z
UID:90853-1738233000-1738240200@www.confindustria.sa.it
SUMMARY:Riunione componenti del Gruppo Tecnico Autonomia Strategica europea\, Piano Mattei e Competitività
DESCRIPTION:partecipa Letizia Magaldi \nAnnamaria Laurenzano
URL:https://www.confindustria.sa.it/event/riunione-componenti-del-gruppo-tecnico-autonomia-strategica-europea-piano-mattei-e-competitivita/
LOCATION:Roma – sala A sede di Confindustria
CATEGORIES:Riunioni varie
ATTACH;FMTTYPE=image/jpeg:https://www.confindustria.sa.it/wp-content/uploads/2020/03/1confindustria_images_annafabi_thumb_medium256_192.jpg
END:VEVENT
BEGIN:VEVENT
DTSTART;TZID=Europe/Helsinki:20250131T090000
DTEND;TZID=Europe/Helsinki:20250201T170000
DTSTAMP:20260419T162602
CREATED:20250131T135346Z
LAST-MODIFIED:20250131T135346Z
UID:91162-1738314000-1738429200@www.confindustria.sa.it
SUMMARY:Percorso formativo in outdoor\, a cura del Comitato Femminile Plurale di Confindustria Salerno
DESCRIPTION:partecipa la presidente del Comitato Elena Salzano \nAnnamaria Laurenzano
URL:https://www.confindustria.sa.it/event/percorso-formativo-in-outdoor-a-cura-del-comitato-femminile-plurale-di-confindustria-salerno/
LOCATION:Buccino – Eliceto Resort & Spa
CATEGORIES:Riunioni varie
ATTACH;FMTTYPE=image/jpeg:https://www.confindustria.sa.it/wp-content/uploads/2020/07/logo-confsa.jpg
END:VEVENT
BEGIN:VEVENT
DTSTART;TZID=Europe/Helsinki:20250131T093000
DTEND;TZID=Europe/Helsinki:20250131T110000
DTSTAMP:20260419T162602
CREATED:20250124T170114Z
LAST-MODIFIED:20250124T170114Z
UID:90856-1738315800-1738321200@www.confindustria.sa.it
SUMMARY:Evento “JOB DAY” la domanda incontra l’offerta. I Centri per l’impiego a servizio di cittadini e imprese
DESCRIPTION:partecipa il presidente del Comitato Piccola Industria Marco Gambardella \nAnnamaria Laurenzano
URL:https://www.confindustria.sa.it/event/evento-job-day-la-domanda-incontra-lofferta-i-centri-per-limpiego-a-servizio-di-cittadini-e-imprese/
LOCATION:Battipaglia – Comune
CATEGORIES:Riunioni varie
END:VEVENT
END:VCALENDAR