BEGIN:VCALENDAR
VERSION:2.0
PRODID:-//Confindustria Salerno - ECPv6.6.3//NONSGML v1.0//EN
CALSCALE:GREGORIAN
METHOD:PUBLISH
X-ORIGINAL-URL:https://www.confindustria.sa.it
X-WR-CALDESC:Eventi per Confindustria Salerno
REFRESH-INTERVAL;VALUE=DURATION:PT1H
X-Robots-Tag:noindex
X-PUBLISHED-TTL:PT1H
BEGIN:VTIMEZONE
TZID:Europe/Helsinki
BEGIN:DAYLIGHT
TZOFFSETFROM:+0200
TZOFFSETTO:+0300
TZNAME:EEST
DTSTART:20240331T010000
END:DAYLIGHT
BEGIN:STANDARD
TZOFFSETFROM:+0300
TZOFFSETTO:+0200
TZNAME:EET
DTSTART:20241027T010000
END:STANDARD
END:VTIMEZONE
BEGIN:VEVENT
DTSTART;TZID=Europe/Helsinki:20241212T153000
DTEND;TZID=Europe/Helsinki:20241212T170000
DTSTAMP:20260419T175235
CREATED:20241212T101245Z
LAST-MODIFIED:20241212T101245Z
UID:89529-1734017400-1734022800@www.confindustria.sa.it
SUMMARY:Consiglio Direttivo del Gruppo Design/Tessile/Sistema Casa “allargato” alla partecipazione degli iscritti
DESCRIPTION:partecipa il presidente del Gruppo Design/Tessile/Sistema Casa Giovanna Basile \nAnnamaria Laurenzano
URL:https://www.confindustria.sa.it/event/consiglio-direttivo-del-gruppo-design-tessile-sistema-casa-allargato-alla-partecipazione-degli-iscritti-2/
LOCATION:sede\, su piattaforma zoom
CATEGORIES:Riunioni varie
ATTACH;FMTTYPE=image/jpeg:https://www.confindustria.sa.it/wp-content/uploads/2020/07/logo-confsa.jpg
END:VEVENT
BEGIN:VEVENT
DTSTART;TZID=Europe/Helsinki:20241213T090000
DTEND;TZID=Europe/Helsinki:20241213T223000
DTSTAMP:20260419T175235
CREATED:20241210T115525Z
LAST-MODIFIED:20241210T115525Z
UID:89423-1734080400-1734129000@www.confindustria.sa.it
SUMMARY:riunione Comitato Regionale Piccola Industria
DESCRIPTION:partecipa il presidente del Comitato Piccola Industria Marco Gambardella \nAnnamaria Laurenzano
URL:https://www.confindustria.sa.it/event/riunione-comitato-regionale-piccola-industria/
LOCATION:in videoconferenza
CATEGORIES:Riunioni varie
ATTACH;FMTTYPE=image/jpeg:https://www.confindustria.sa.it/wp-content/uploads/2020/07/piccola.jpg
END:VEVENT
BEGIN:VEVENT
DTSTART;TZID=Europe/Helsinki:20241213T103000
DTEND;TZID=Europe/Helsinki:20241213T123000
DTSTAMP:20260419T175235
CREATED:20241212T103026Z
LAST-MODIFIED:20241212T103026Z
UID:89538-1734085800-1734093000@www.confindustria.sa.it
SUMMARY:Conferenza stampa “Colline Salernitane in festa – L’ Epifania”
DESCRIPTION:partecipa il presidente del Gruppo Turismo M. Lurgi \nAnnamaria Laurenzano
URL:https://www.confindustria.sa.it/event/conferenza-stampa-colline-salernitane-in-festa-l-epifania/
LOCATION:Confindustria  Salerno
CATEGORIES:Riunioni varie
END:VEVENT
BEGIN:VEVENT
DTSTART;TZID=Europe/Helsinki:20241216T103000
DTEND;TZID=Europe/Helsinki:20241216T120000
DTSTAMP:20260419T175235
CREATED:20241209T155836Z
LAST-MODIFIED:20241212T160809Z
UID:89366-1734345000-1734350400@www.confindustria.sa.it
SUMMARY:Conferenza stampa Hub del freddo: opportunità di sviluppo per il territorio
DESCRIPTION:partecipa il presidente del Comitato Piccola Industria Marco Gambardella \nLocandina conferenza stampa hub del freddo \n  \n  \nAnnamaria Laurenzano
URL:https://www.confindustria.sa.it/event/conferenza-stampa-hub-del-freddo-opportunita-di-sviluppo-per-il-territorio/
LOCATION:SALERNO – Consorzio Asi
CATEGORIES:Riunioni varie
ATTACH;FMTTYPE=image/jpeg:https://www.confindustria.sa.it/wp-content/uploads/2024/12/IMG-20241212-WA0003-1.jpg
END:VEVENT
BEGIN:VEVENT
DTSTART;TZID=Europe/Helsinki:20241216T153000
DTEND;TZID=Europe/Helsinki:20241216T180000
DTSTAMP:20260419T175235
CREATED:20240726T152051Z
LAST-MODIFIED:20241212T101343Z
UID:83175-1734363000-1734372000@www.confindustria.sa.it
SUMMARY:Consiglio Generale
DESCRIPTION:partecipa il presidente Antonio Ferraioli \nAnnamaria Laurenzano
URL:https://www.confindustria.sa.it/event/consiglio-generale-16/
LOCATION:Confindustria Salerno
CATEGORIES:Riunioni varie
ATTACH;FMTTYPE=image/jpeg:https://www.confindustria.sa.it/wp-content/uploads/2020/07/logo-confsa.jpg
END:VEVENT
BEGIN:VEVENT
DTSTART;TZID=Europe/Helsinki:20241218T100000
DTEND;TZID=Europe/Helsinki:20241218T120000
DTSTAMP:20260419T175235
CREATED:20241212T102707Z
LAST-MODIFIED:20241212T102707Z
UID:89534-1734516000-1734523200@www.confindustria.sa.it
SUMMARY:Roadshow Conai 2024: Webinar - di info-formazione in materia ambientale su Obblighi sul trasporto dei rifiuti in ADR. L'ADR 2025
DESCRIPTION:Annamaria Laurenzano
URL:https://www.confindustria.sa.it/event/roadshow-conai-2024-webinar-di-info-formazione-in-materia-ambientale-su-obblighi-sul-trasporto-dei-rifiuti-in-adr-ladr-2025/
LOCATION:Confindustria Salerno
CATEGORIES:Riunioni varie
ATTACH;FMTTYPE=image/png:https://www.confindustria.sa.it/wp-content/uploads/2021/04/logo-conai-2019@2x.png
END:VEVENT
END:VCALENDAR