BEGIN:VCALENDAR
VERSION:2.0
PRODID:-//Confindustria Salerno - ECPv6.6.3//NONSGML v1.0//EN
CALSCALE:GREGORIAN
METHOD:PUBLISH
X-WR-CALNAME:Confindustria Salerno
X-ORIGINAL-URL:https://www.confindustria.sa.it
X-WR-CALDESC:Eventi per Confindustria Salerno
REFRESH-INTERVAL;VALUE=DURATION:PT1H
X-Robots-Tag:noindex
X-PUBLISHED-TTL:PT1H
BEGIN:VTIMEZONE
TZID:Europe/Helsinki
BEGIN:DAYLIGHT
TZOFFSETFROM:+0200
TZOFFSETTO:+0300
TZNAME:EEST
DTSTART:20240331T010000
END:DAYLIGHT
BEGIN:STANDARD
TZOFFSETFROM:+0300
TZOFFSETTO:+0200
TZNAME:EET
DTSTART:20241027T010000
END:STANDARD
END:VTIMEZONE
BEGIN:VEVENT
DTSTART;TZID=Europe/Helsinki:20241010T103000
DTEND;TZID=Europe/Helsinki:20241010T170000
DTSTAMP:20260419T204105
CREATED:20241004T150408Z
LAST-MODIFIED:20241004T150408Z
UID:86152-1728556200-1728579600@www.confindustria.sa.it
SUMMARY:Conferenza stampa "Salerno - Vietri sul Mare: un volo tra le bellezze"\, con focus incentrato sull'Aeroporto "Costa d'Amalfi".
DESCRIPTION:partecipa il presidente del Gruppo Alberghi Turismo e tempo libero Michelangelo Lurgi \nAnnamaria Laurenzano
URL:https://www.confindustria.sa.it/event/conferenza-stampa-salerno-vietri-sul-mare-un-volo-tra-le-bellezze-con-focus-incentrato-sullaeroporto-costa-damalfi/
LOCATION:TGG di Rimini – Padiglione della Regione Campania
CATEGORIES:Riunioni varie
END:VEVENT
BEGIN:VEVENT
DTSTART;TZID=Europe/Helsinki:20241017T153000
DTEND;TZID=Europe/Helsinki:20241017T153000
DTSTAMP:20260419T204105
CREATED:20241016T152012Z
LAST-MODIFIED:20241016T152012Z
UID:86870-1729179000-1729179000@www.confindustria.sa.it
SUMMARY:Consiglio Direttivo del Gruppo Giovani Imprenditori
DESCRIPTION:partecipa il presidente Vincenzo Iennaco \nAnnamaria Laurenzano
URL:https://www.confindustria.sa.it/event/consiglio-direttivo-del-gruppo-giovani-imprenditori-9/
LOCATION:in videoconferenza
CATEGORIES:Riunioni varie
ATTACH;FMTTYPE=image/jpeg:https://www.confindustria.sa.it/wp-content/uploads/2019/09/logo_confindustria_giovani_imprenditori.jpg
END:VEVENT
BEGIN:VEVENT
DTSTART;TZID=Europe/Helsinki:20241030T183000
DTEND;TZID=Europe/Helsinki:20241030T203000
DTSTAMP:20260419T204105
CREATED:20241029T163723Z
LAST-MODIFIED:20241029T163723Z
UID:87510-1730313000-1730320200@www.confindustria.sa.it
SUMMARY:Riunione Asi per la mappatura delle principali criticità dei PIP delle Aree industriali di alcuni comuni del Cilento e del Vallo di Diano.
DESCRIPTION:partecipa il presidente del Comitato Piccola Industria Marco Gambardella e la Coordinatrice del Raggruppamento delle imprese del Vallo di Diano Annamaria Curcio \nAnnamaria Laurenzano
URL:https://www.confindustria.sa.it/event/riunione-asi-per-la-mappatura-delle-principali-criticita-dei-pip-delle-aree-industriali-di-alcuni-comuni-del-cilento-e-del-vallo-di-diano/
LOCATION:Vallo della Lucania – Comune (Aula consiliare)
CATEGORIES:Riunioni varie
END:VEVENT
END:VCALENDAR