BEGIN:VCALENDAR
VERSION:2.0
PRODID:-//Confindustria Salerno - ECPv6.6.3//NONSGML v1.0//EN
CALSCALE:GREGORIAN
METHOD:PUBLISH
X-WR-CALNAME:Confindustria Salerno
X-ORIGINAL-URL:https://www.confindustria.sa.it
X-WR-CALDESC:Eventi per Confindustria Salerno
REFRESH-INTERVAL;VALUE=DURATION:PT1H
X-Robots-Tag:noindex
X-PUBLISHED-TTL:PT1H
BEGIN:VTIMEZONE
TZID:Europe/Helsinki
BEGIN:DAYLIGHT
TZOFFSETFROM:+0200
TZOFFSETTO:+0300
TZNAME:EEST
DTSTART:20240331T010000
END:DAYLIGHT
BEGIN:STANDARD
TZOFFSETFROM:+0300
TZOFFSETTO:+0200
TZNAME:EET
DTSTART:20241027T010000
END:STANDARD
END:VTIMEZONE
BEGIN:VEVENT
DTSTART;TZID=Europe/Helsinki:20240411T110000
DTEND;TZID=Europe/Helsinki:20240411T170000
DTSTAMP:20260420T044839
CREATED:20240405T151210Z
LAST-MODIFIED:20240405T151210Z
UID:77099-1712833200-1712854800@www.confindustria.sa.it
SUMMARY:Cerimonia di inaugurazione e intitolazione della caserma sede del Reparto Territoriale Carabinieri di Vallo della Lucania al Capitano Medaglia d’Argento al Valor Militare Mario FIORE
DESCRIPTION:partecipa il presidente del Raggruppamento Imprese Vallo di Diano Annamaria Curcio \nAnnamaria Laurenzano
URL:https://www.confindustria.sa.it/event/cerimonia-di-inaugurazione-e-intitolazione-della-caserma-sede-del-reparto-territoriale-carabinieri-di-vallo-della-lucania-al-capitano-medaglia-dargento-al-valor-militare-mario-fiore/
LOCATION:Vallo della Lucania
CATEGORIES:Riunioni varie
END:VEVENT
BEGIN:VEVENT
DTSTART;TZID=Europe/Helsinki:20240418T140000
DTEND;TZID=Europe/Helsinki:20240418T163000
DTSTAMP:20260420T044839
CREATED:20240405T152244Z
LAST-MODIFIED:20240405T152244Z
UID:77105-1713448800-1713457800@www.confindustria.sa.it
SUMMARY:Consiglio Centrale Piccola Industria allargata a tutti i Presidenti PI e ai Segretari PI di territorio
DESCRIPTION:partecipa il presidente Lina Piccolo \nAnnamaria Laurenzano
URL:https://www.confindustria.sa.it/event/consiglio-centrale-piccola-industria-allargata-a-tutti-i-presidenti-pi-e-ai-segretari-pi-di-territorio/
LOCATION:in modalità ibrida
CATEGORIES:Riunioni varie
ATTACH;FMTTYPE=image/jpeg:https://www.confindustria.sa.it/wp-content/uploads/2020/07/piccola-1.jpg
END:VEVENT
BEGIN:VEVENT
DTSTART;TZID=Europe/Helsinki:20240419T103000
DTEND;TZID=Europe/Helsinki:20240419T120000
DTSTAMP:20260420T044839
CREATED:20240319T095818Z
LAST-MODIFIED:20240319T095818Z
UID:76245-1713522600-1713528000@www.confindustria.sa.it
SUMMARY:Incontro delle imprese con Antonello Barretta Direttore Generale ciclo integrato delle acque\, rifiuti\, valutazioni e autorizzazioni ambientali della Regione Campania e con Giovanni Coscia\, presidente dell’Ente d’ambito rifiuti – Salerno
DESCRIPTION:partecipa la vicepresidente Lina Piccolo \nnews \nAnnamaria Laurenzano
URL:https://www.confindustria.sa.it/event/incontro-delle-imprese-con-antonello-barretta-direttore-generale-ciclo-integrato-delle-acque-rifiuti-valutazioni-e-autorizzazioni-ambientali-della-regione-campania-e-con-giovanni-coscia-presidente/
LOCATION:Confindustria  Salerno
CATEGORIES:Riunioni varie
ATTACH;FMTTYPE=image/jpeg:https://www.confindustria.sa.it/wp-content/uploads/2024/03/19_APRILE_24.jpg
END:VEVENT
BEGIN:VEVENT
DTSTART;TZID=Europe/Helsinki:20240424T153000
DTEND;TZID=Europe/Helsinki:20240424T180000
DTSTAMP:20260420T044839
CREATED:20240119T160348Z
LAST-MODIFIED:20240315T164311Z
UID:73776-1713972600-1713981600@www.confindustria.sa.it
SUMMARY:Consiglio Generale Confindustria Salerno
DESCRIPTION:partecipa il presidente Antonio Ferraioli \nAnnamaria Laurenzano
URL:https://www.confindustria.sa.it/event/consiglio-generale-confindustria-salerno-2-3/
LOCATION:Confindustria Salerno
CATEGORIES:Riunioni varie
ATTACH;FMTTYPE=image/png:https://www.confindustria.sa.it/wp-content/uploads/2020/07/LogoConfindustria1.png
END:VEVENT
BEGIN:VEVENT
DTSTART;TZID=Europe/Helsinki:20240429T103000
DTEND;TZID=Europe/Helsinki:20240429T120000
DTSTAMP:20260420T044839
CREATED:20240405T152728Z
LAST-MODIFIED:20240405T152728Z
UID:77109-1714386600-1714392000@www.confindustria.sa.it
SUMMARY:Inaugurazione nuova sede Eduwork\, FMTS Group
DESCRIPTION:partecipa la vicepresidente Stefania Rinaldi \nAnnamaria Laurenzano
URL:https://www.confindustria.sa.it/event/inaugurazione-nuova-sede-eduwork-fmts-group/
LOCATION:FMTS Group\, via Leonardo da Vinci 15 Pontecagnano Faiano
CATEGORIES:Riunioni varie
END:VEVENT
BEGIN:VEVENT
DTSTART;TZID=Europe/Helsinki:20240430T103000
DTEND;TZID=Europe/Helsinki:20240430T120000
DTSTAMP:20260420T044839
CREATED:20240424T172231Z
LAST-MODIFIED:20240424T172231Z
UID:78886-1714473000-1714478400@www.confindustria.sa.it
SUMMARY:Consiglio Direttivo Gruppo Alberghi\, Turismo e Tempo Libero
DESCRIPTION:partecipa il presidente Andrea Ferraioli \nAnnamaria Laurenzano
URL:https://www.confindustria.sa.it/event/consiglio-direttivo-gruppo-alberghi-turismo-e-tempo-libero-4/
LOCATION:Confindustria  Salerno
CATEGORIES:Riunioni varie
END:VEVENT
END:VCALENDAR