BEGIN:VCALENDAR
VERSION:2.0
PRODID:-//Confindustria Salerno - ECPv6.6.3//NONSGML v1.0//EN
CALSCALE:GREGORIAN
METHOD:PUBLISH
X-ORIGINAL-URL:https://www.confindustria.sa.it
X-WR-CALDESC:Eventi per Confindustria Salerno
REFRESH-INTERVAL;VALUE=DURATION:PT1H
X-Robots-Tag:noindex
X-PUBLISHED-TTL:PT1H
BEGIN:VTIMEZONE
TZID:Europe/Helsinki
BEGIN:DAYLIGHT
TZOFFSETFROM:+0200
TZOFFSETTO:+0300
TZNAME:EEST
DTSTART:20210328T010000
END:DAYLIGHT
BEGIN:STANDARD
TZOFFSETFROM:+0300
TZOFFSETTO:+0200
TZNAME:EET
DTSTART:20211031T010000
END:STANDARD
END:VTIMEZONE
BEGIN:VEVENT
DTSTART;TZID=Europe/Helsinki:20210803T163000
DTEND;TZID=Europe/Helsinki:20210803T180000
DTSTAMP:20260423T010720
CREATED:20210728T123246Z
LAST-MODIFIED:20210728T123246Z
UID:35049-1628008200-1628013600@www.confindustria.sa.it
SUMMARY:Consiglio di Indirizzo della Fondazione Giuseppe Bruno
DESCRIPTION:Partecipa il Presidente Pasquale Gaito \nAnnamaria Laurenzano
URL:https://www.confindustria.sa.it/event/consiglio-di-indirizzo-della-fondazione-giuseppe-bruno/
LOCATION:Flumeri (Av) – Villa Relais Imperatrice\, c.da S. Sofia\, Tre Torri
CATEGORIES:Riunioni varie
ATTACH;FMTTYPE=image/png:https://www.confindustria.sa.it/wp-content/uploads/2020/07/LogoConfindustria1.png
END:VEVENT
BEGIN:VEVENT
DTSTART;TZID=Europe/Helsinki:20210803T163000
DTEND;TZID=Europe/Helsinki:20210803T180000
DTSTAMP:20260423T010720
CREATED:20210728T123246Z
LAST-MODIFIED:20210728T123246Z
UID:72148-1628008200-1628013600@www.confindustria.sa.it
SUMMARY:Consiglio di Indirizzo della Fondazione Giuseppe Bruno
DESCRIPTION:Partecipa il Presidente Pasquale Gaito \nAnnamaria Laurenzano
URL:https://www.confindustria.sa.it/event/consiglio-di-indirizzo-della-fondazione-giuseppe-bruno-2/
LOCATION:Flumeri (Av) – Villa Relais Imperatrice\, c.da S. Sofia\, Tre Torri
CATEGORIES:Riunioni varie
ATTACH;FMTTYPE=image/png:https://www.confindustria.sa.it/wp-content/uploads/2020/07/LogoConfindustria1.png
END:VEVENT
BEGIN:VEVENT
DTSTART;TZID=Europe/Helsinki:20210803T163000
DTEND;TZID=Europe/Helsinki:20210803T180000
DTSTAMP:20260423T010720
CREATED:20210728T123246Z
LAST-MODIFIED:20210728T123246Z
UID:73171-1628008200-1628013600@www.confindustria.sa.it
SUMMARY:Consiglio di Indirizzo della Fondazione Giuseppe Bruno
DESCRIPTION:Partecipa il Presidente Pasquale Gaito \nAnnamaria Laurenzano
URL:https://www.confindustria.sa.it/event/consiglio-di-indirizzo-della-fondazione-giuseppe-bruno-3/
LOCATION:Flumeri (Av) – Villa Relais Imperatrice\, c.da S. Sofia\, Tre Torri
CATEGORIES:Riunioni varie
ATTACH;FMTTYPE=image/png:https://www.confindustria.sa.it/wp-content/uploads/2020/07/LogoConfindustria1.png
END:VEVENT
END:VCALENDAR