BEGIN:VCALENDAR
VERSION:2.0
PRODID:-//Confindustria Salerno - ECPv6.6.3//NONSGML v1.0//EN
CALSCALE:GREGORIAN
METHOD:PUBLISH
X-ORIGINAL-URL:https://www.confindustria.sa.it
X-WR-CALDESC:Eventi per Confindustria Salerno
REFRESH-INTERVAL;VALUE=DURATION:PT1H
X-Robots-Tag:noindex
X-PUBLISHED-TTL:PT1H
BEGIN:VTIMEZONE
TZID:Europe/Helsinki
BEGIN:DAYLIGHT
TZOFFSETFROM:+0200
TZOFFSETTO:+0300
TZNAME:EEST
DTSTART:20210328T010000
END:DAYLIGHT
BEGIN:STANDARD
TZOFFSETFROM:+0300
TZOFFSETTO:+0200
TZNAME:EET
DTSTART:20211031T010000
END:STANDARD
END:VTIMEZONE
BEGIN:VEVENT
DTSTART;TZID=Europe/Helsinki:20210308T090000
DTEND;TZID=Europe/Helsinki:20210308T130000
DTSTAMP:20260423T092712
CREATED:20210218T172843Z
LAST-MODIFIED:20210218T172843Z
UID:72016-1615194000-1615208400@www.confindustria.sa.it
SUMMARY:Consiglio Direttivo allargato Gruppo Design Tessile Sistema Casa
DESCRIPTION:Partecipa la Presidente Elisa Prete \n  \nAnnamaria Laurenzano
URL:https://www.confindustria.sa.it/event/consiglio-direttivo-allargato-gruppo-design-tessile-sistema-casa-3/
LOCATION:confindustria salerno
CATEGORIES:Riunioni varie
ATTACH;FMTTYPE=image/png:https://www.confindustria.sa.it/wp-content/uploads/2020/07/LogoConfindustria1.png
END:VEVENT
BEGIN:VEVENT
DTSTART;TZID=Europe/Helsinki:20210308T090000
DTEND;TZID=Europe/Helsinki:20210308T130000
DTSTAMP:20260423T092712
CREATED:20210218T172843Z
LAST-MODIFIED:20210218T172843Z
UID:25692-1615194000-1615208400@www.confindustria.sa.it
SUMMARY:Consiglio Direttivo allargato Gruppo Design Tessile Sistema Casa
DESCRIPTION:Partecipa la Presidente Elisa Prete \n  \nAnnamaria Laurenzano
URL:https://www.confindustria.sa.it/event/consiglio-direttivo-allargato-gruppo-design-tessile-sistema-casa/
LOCATION:confindustria salerno
CATEGORIES:Riunioni varie
ATTACH;FMTTYPE=image/png:https://www.confindustria.sa.it/wp-content/uploads/2020/07/LogoConfindustria1.png
END:VEVENT
BEGIN:VEVENT
DTSTART;TZID=Europe/Helsinki:20210308T090000
DTEND;TZID=Europe/Helsinki:20210308T130000
DTSTAMP:20260423T092712
CREATED:20210218T172843Z
LAST-MODIFIED:20210218T172843Z
UID:73039-1615194000-1615208400@www.confindustria.sa.it
SUMMARY:Consiglio Direttivo allargato Gruppo Design Tessile Sistema Casa
DESCRIPTION:Partecipa la Presidente Elisa Prete \n  \nAnnamaria Laurenzano
URL:https://www.confindustria.sa.it/event/consiglio-direttivo-allargato-gruppo-design-tessile-sistema-casa-4/
LOCATION:confindustria salerno
CATEGORIES:Riunioni varie
ATTACH;FMTTYPE=image/png:https://www.confindustria.sa.it/wp-content/uploads/2020/07/LogoConfindustria1.png
END:VEVENT
BEGIN:VEVENT
DTSTART;TZID=Europe/Helsinki:20210316T163000
DTEND;TZID=Europe/Helsinki:20210316T173000
DTSTAMP:20260423T092712
CREATED:20210312T170946Z
LAST-MODIFIED:20210312T170946Z
UID:72035-1615912200-1615915800@www.confindustria.sa.it
SUMMARY:Consiglio Direttivo allargato Comitato Femminile Plurale
DESCRIPTION:partecipa la presidente (A.Puglisi) \nsu piattaforma zoom \nAnnamaria Laurenzano
URL:https://www.confindustria.sa.it/event/consiglio-direttivo-allargato-comitato-femminile-plurale-2-2/
LOCATION:confindustria salerno
CATEGORIES:Riunioni varie
ATTACH;FMTTYPE=image/png:https://www.confindustria.sa.it/wp-content/uploads/2020/07/LogoConfindustria1.png
END:VEVENT
BEGIN:VEVENT
DTSTART;TZID=Europe/Helsinki:20210316T163000
DTEND;TZID=Europe/Helsinki:20210316T173000
DTSTAMP:20260423T092712
CREATED:20210312T170946Z
LAST-MODIFIED:20210312T170946Z
UID:27048-1615912200-1615915800@www.confindustria.sa.it
SUMMARY:Consiglio Direttivo allargato Comitato Femminile Plurale
DESCRIPTION:partecipa la presidente (A.Puglisi) \nsu piattaforma zoom \nAnnamaria Laurenzano
URL:https://www.confindustria.sa.it/event/consiglio-direttivo-allargato-comitato-femminile-plurale-2/
LOCATION:confindustria salerno
CATEGORIES:Riunioni varie
ATTACH;FMTTYPE=image/png:https://www.confindustria.sa.it/wp-content/uploads/2020/07/LogoConfindustria1.png
END:VEVENT
BEGIN:VEVENT
DTSTART;TZID=Europe/Helsinki:20210316T163000
DTEND;TZID=Europe/Helsinki:20210316T173000
DTSTAMP:20260423T092712
CREATED:20210312T170946Z
LAST-MODIFIED:20210312T170946Z
UID:73058-1615912200-1615915800@www.confindustria.sa.it
SUMMARY:Consiglio Direttivo allargato Comitato Femminile Plurale
DESCRIPTION:partecipa la presidente (A.Puglisi) \nsu piattaforma zoom \nAnnamaria Laurenzano
URL:https://www.confindustria.sa.it/event/consiglio-direttivo-allargato-comitato-femminile-plurale-2-3/
LOCATION:confindustria salerno
CATEGORIES:Riunioni varie
ATTACH;FMTTYPE=image/png:https://www.confindustria.sa.it/wp-content/uploads/2020/07/LogoConfindustria1.png
END:VEVENT
BEGIN:VEVENT
DTSTART;TZID=Europe/Helsinki:20210324T000000
DTEND;TZID=Europe/Helsinki:20210324T133000
DTSTAMP:20260423T092712
CREATED:20210317T155446Z
LAST-MODIFIED:20210317T171411Z
UID:27381-1616544000-1616592600@www.confindustria.sa.it
SUMMARY:Consiglio Direttivo del Gruppo Giovani Imprenditori
DESCRIPTION:Partecipa il Presidente Marco Gambardella \nAnnamaria Laurenzano
URL:https://www.confindustria.sa.it/event/consiglio-direttivo-del-gruppo-giovani-imprenditori-2/
CATEGORIES:Riunioni varie
ATTACH;FMTTYPE=image/jpeg:https://www.confindustria.sa.it/wp-content/uploads/2021/03/50-ggi-logo-def-1.jpg
END:VEVENT
BEGIN:VEVENT
DTSTART;TZID=Europe/Helsinki:20210324T000000
DTEND;TZID=Europe/Helsinki:20210324T133000
DTSTAMP:20260423T092712
CREATED:20210317T155446Z
LAST-MODIFIED:20210317T155446Z
UID:73066-1616544000-1616592600@www.confindustria.sa.it
SUMMARY:Consiglio Direttivo del Gruppo Giovani Imprenditori
DESCRIPTION:Partecipa il Presidente Marco Gambardella \nAnnamaria Laurenzano
URL:https://www.confindustria.sa.it/event/consiglio-direttivo-del-gruppo-giovani-imprenditori-2-3/
CATEGORIES:Riunioni varie
ATTACH;FMTTYPE=image/jpeg:https://www.confindustria.sa.it/wp-content/uploads/2021/03/50-ggi-logo-def-1.jpg
END:VEVENT
BEGIN:VEVENT
DTSTART;TZID=Europe/Helsinki:20210324T000000
DTEND;TZID=Europe/Helsinki:20210324T133000
DTSTAMP:20260423T092712
CREATED:20210317T155446Z
LAST-MODIFIED:20210317T155446Z
UID:72043-1616544000-1616592600@www.confindustria.sa.it
SUMMARY:Consiglio Direttivo del Gruppo Giovani Imprenditori
DESCRIPTION:Partecipa il Presidente Marco Gambardella \nAnnamaria Laurenzano
URL:https://www.confindustria.sa.it/event/consiglio-direttivo-del-gruppo-giovani-imprenditori-2-2/
CATEGORIES:Riunioni varie
ATTACH;FMTTYPE=image/jpeg:https://www.confindustria.sa.it/wp-content/uploads/2021/03/50-ggi-logo-def-1.jpg
END:VEVENT
BEGIN:VEVENT
DTSTART;TZID=Europe/Helsinki:20210324T153000
DTEND;TZID=Europe/Helsinki:20210324T170000
DTSTAMP:20260423T092712
CREATED:20210312T171337Z
LAST-MODIFIED:20210312T171337Z
UID:72037-1616599800-1616605200@www.confindustria.sa.it
SUMMARY:Consiglio Direttivo Gruppo Chimica Gomma Plastica
DESCRIPTION:partecipa il presidente (G. Rinaldi) \n  \nAnnamaria Laurenzano
URL:https://www.confindustria.sa.it/event/consiglio-direttivo-gruppo-chimica-gomma-plastica-3-2/
CATEGORIES:Riunioni varie
ATTACH;FMTTYPE=image/png:https://www.confindustria.sa.it/wp-content/uploads/2020/07/LogoConfindustria1.png
END:VEVENT
BEGIN:VEVENT
DTSTART;TZID=Europe/Helsinki:20210324T153000
DTEND;TZID=Europe/Helsinki:20210324T170000
DTSTAMP:20260423T092712
CREATED:20210312T171337Z
LAST-MODIFIED:20210312T171337Z
UID:27053-1616599800-1616605200@www.confindustria.sa.it
SUMMARY:Consiglio Direttivo Gruppo Chimica Gomma Plastica
DESCRIPTION:partecipa il presidente (G. Rinaldi) \n  \nAnnamaria Laurenzano
URL:https://www.confindustria.sa.it/event/consiglio-direttivo-gruppo-chimica-gomma-plastica-3/
CATEGORIES:Riunioni varie
ATTACH;FMTTYPE=image/png:https://www.confindustria.sa.it/wp-content/uploads/2020/07/LogoConfindustria1.png
END:VEVENT
BEGIN:VEVENT
DTSTART;TZID=Europe/Helsinki:20210324T153000
DTEND;TZID=Europe/Helsinki:20210324T170000
DTSTAMP:20260423T092712
CREATED:20210312T171337Z
LAST-MODIFIED:20210312T171337Z
UID:73060-1616599800-1616605200@www.confindustria.sa.it
SUMMARY:Consiglio Direttivo Gruppo Chimica Gomma Plastica
DESCRIPTION:partecipa il presidente (G. Rinaldi) \n  \nAnnamaria Laurenzano
URL:https://www.confindustria.sa.it/event/consiglio-direttivo-gruppo-chimica-gomma-plastica-3-3/
CATEGORIES:Riunioni varie
ATTACH;FMTTYPE=image/png:https://www.confindustria.sa.it/wp-content/uploads/2020/07/LogoConfindustria1.png
END:VEVENT
END:VCALENDAR