BEGIN:VCALENDAR
VERSION:2.0
PRODID:-//Confindustria Salerno - ECPv6.6.3//NONSGML v1.0//EN
CALSCALE:GREGORIAN
METHOD:PUBLISH
X-ORIGINAL-URL:https://www.confindustria.sa.it
X-WR-CALDESC:Eventi per Confindustria Salerno
REFRESH-INTERVAL;VALUE=DURATION:PT1H
X-Robots-Tag:noindex
X-PUBLISHED-TTL:PT1H
BEGIN:VTIMEZONE
TZID:Europe/Paris
BEGIN:DAYLIGHT
TZOFFSETFROM:+0100
TZOFFSETTO:+0200
TZNAME:CEST
DTSTART:20200329T010000
END:DAYLIGHT
BEGIN:STANDARD
TZOFFSETFROM:+0200
TZOFFSETTO:+0100
TZNAME:CET
DTSTART:20201025T010000
END:STANDARD
END:VTIMEZONE
BEGIN:VEVENT
DTSTART;TZID=Europe/Paris:20200703T093000
DTEND;TZID=Europe/Paris:20200703T170000
DTSTAMP:20260423T234409
CREATED:20200630T133555Z
LAST-MODIFIED:20200630T133555Z
UID:13625-1593768600-1593795600@www.confindustria.sa.it
SUMMARY:Comitato Provinciale per l'Ordine e la Sicurezza Pubblica
DESCRIPTION:Partecipa il Presidente Andrea Prete \nAnnamaria Laurenzano
URL:https://www.confindustria.sa.it/event/comitato-provinciale-per-lordine-e-la-sicurezza-pubblica/
LOCATION:Prefettura di Salerno
CATEGORIES:Riunioni varie
END:VEVENT
BEGIN:VEVENT
DTSTART;TZID=Europe/Paris:20200703T093000
DTEND;TZID=Europe/Paris:20200703T170000
DTSTAMP:20260423T234409
CREATED:20200630T133555Z
LAST-MODIFIED:20200630T133555Z
UID:71915-1593768600-1593795600@www.confindustria.sa.it
SUMMARY:Comitato Provinciale per l\'Ordine e la Sicurezza Pubblica
DESCRIPTION:Partecipa il Presidente Andrea Prete \nAnnamaria Laurenzano
URL:https://www.confindustria.sa.it/event/comitato-provinciale-per-lordine-e-la-sicurezza-pubblica-2/
LOCATION:Prefettura di Salerno
CATEGORIES:Riunioni varie
END:VEVENT
BEGIN:VEVENT
DTSTART;TZID=Europe/Paris:20200703T093000
DTEND;TZID=Europe/Paris:20200703T170000
DTSTAMP:20260423T234409
CREATED:20200630T133555Z
LAST-MODIFIED:20200630T133555Z
UID:72938-1593768600-1593795600@www.confindustria.sa.it
SUMMARY:Comitato Provinciale per l\'Ordine e la Sicurezza Pubblica
DESCRIPTION:Partecipa il Presidente Andrea Prete \nAnnamaria Laurenzano
URL:https://www.confindustria.sa.it/event/comitato-provinciale-per-lordine-e-la-sicurezza-pubblica-3/
LOCATION:Prefettura di Salerno
CATEGORIES:Riunioni varie
END:VEVENT
BEGIN:VEVENT
DTSTART;TZID=Europe/Paris:20200708T153000
DTEND;TZID=Europe/Paris:20200708T170000
DTSTAMP:20260423T234409
CREATED:20200701T095357Z
LAST-MODIFIED:20200701T095357Z
UID:13686-1594222200-1594227600@www.confindustria.sa.it
SUMMARY:Commissione Industria dei Viaggi e del Turismo
DESCRIPTION:Partecipa G. Puopolo \nAnnamaria Laurenzano
URL:https://www.confindustria.sa.it/event/commissione-industria-dei-viaggi-e-del-turismo/
LOCATION:Unione Industriali\, P.zza dei Martiri\, 58\, Napoli
CATEGORIES:Riunioni varie
ATTACH;FMTTYPE=image/jpeg:https://www.confindustria.sa.it/wp-content/uploads/2019/12/1confindustria_images_annafabi_thumb_medium256_192.jpg
END:VEVENT
BEGIN:VEVENT
DTSTART;TZID=Europe/Paris:20200708T153000
DTEND;TZID=Europe/Paris:20200708T170000
DTSTAMP:20260423T234409
CREATED:20200701T095357Z
LAST-MODIFIED:20200701T095357Z
UID:71916-1594222200-1594227600@www.confindustria.sa.it
SUMMARY:Commissione Industria dei Viaggi e del Turismo
DESCRIPTION:Partecipa G. Puopolo \nAnnamaria Laurenzano
URL:https://www.confindustria.sa.it/event/commissione-industria-dei-viaggi-e-del-turismo-2/
LOCATION:Unione Industriali\, P.zza dei Martiri\, 58\, Napoli
CATEGORIES:Riunioni varie
ATTACH;FMTTYPE=image/jpeg:https://www.confindustria.sa.it/wp-content/uploads/2019/12/1confindustria_images_annafabi_thumb_medium256_192.jpg
END:VEVENT
BEGIN:VEVENT
DTSTART;TZID=Europe/Paris:20200708T153000
DTEND;TZID=Europe/Paris:20200708T170000
DTSTAMP:20260423T234409
CREATED:20200701T095357Z
LAST-MODIFIED:20200701T095357Z
UID:72939-1594222200-1594227600@www.confindustria.sa.it
SUMMARY:Commissione Industria dei Viaggi e del Turismo
DESCRIPTION:Partecipa G. Puopolo \nAnnamaria Laurenzano
URL:https://www.confindustria.sa.it/event/commissione-industria-dei-viaggi-e-del-turismo-3/
LOCATION:Unione Industriali\, P.zza dei Martiri\, 58\, Napoli
CATEGORIES:Riunioni varie
ATTACH;FMTTYPE=image/jpeg:https://www.confindustria.sa.it/wp-content/uploads/2019/12/1confindustria_images_annafabi_thumb_medium256_192.jpg
END:VEVENT
END:VCALENDAR