BEGIN:VCALENDAR
VERSION:2.0
PRODID:-//Confindustria Salerno - ECPv6.6.3//NONSGML v1.0//EN
CALSCALE:GREGORIAN
METHOD:PUBLISH
X-WR-CALNAME:Confindustria Salerno
X-ORIGINAL-URL:https://www.confindustria.sa.it
X-WR-CALDESC:Eventi per Confindustria Salerno
REFRESH-INTERVAL;VALUE=DURATION:PT1H
X-Robots-Tag:noindex
X-PUBLISHED-TTL:PT1H
BEGIN:VTIMEZONE
TZID:Europe/Paris
BEGIN:DAYLIGHT
TZOFFSETFROM:+0100
TZOFFSETTO:+0200
TZNAME:CEST
DTSTART:20260329T010000
END:DAYLIGHT
BEGIN:STANDARD
TZOFFSETFROM:+0200
TZOFFSETTO:+0100
TZNAME:CET
DTSTART:20261025T010000
END:STANDARD
END:VTIMEZONE
BEGIN:VEVENT
DTSTART;TZID=Europe/Paris:20260421T110000
DTEND;TZID=Europe/Paris:20260421T123000
DTSTAMP:20260421T015356
CREATED:20260416T113736Z
LAST-MODIFIED:20260416T113942Z
UID:109887-1776769200-1776774600@www.confindustria.sa.it
SUMMARY:Consiglio Direttivo allargato del Gruppo Design Tessile Sistema Casa
DESCRIPTION:Esteso a tutti gli iscritti e promotori della SDW 2026\, su piattaforma Zoom. \nPartecipa la Presidente Giovanna Basile \nAnnamaria Laurenzano
URL:https://www.confindustria.sa.it/event/consiglio-direttivo-allargato-del-gruppo-design-tessile-sistema-casa-13/
LOCATION:su zoom
CATEGORIES:eventi-confindustria
ATTACH;FMTTYPE=image/png:https://www.confindustria.sa.it/wp-content/uploads/2020/07/LogoConfindustria1-1.png
END:VEVENT
END:VCALENDAR