BEGIN:VCALENDAR
VERSION:2.0
PRODID:-//Confindustria Salerno - ECPv6.6.3//NONSGML v1.0//EN
CALSCALE:GREGORIAN
METHOD:PUBLISH
X-WR-CALNAME:Confindustria Salerno
X-ORIGINAL-URL:https://www.confindustria.sa.it
X-WR-CALDESC:Eventi per Confindustria Salerno
REFRESH-INTERVAL;VALUE=DURATION:PT1H
X-Robots-Tag:noindex
X-PUBLISHED-TTL:PT1H
BEGIN:VTIMEZONE
TZID:Europe/Paris
BEGIN:DAYLIGHT
TZOFFSETFROM:+0100
TZOFFSETTO:+0200
TZNAME:CEST
DTSTART:20260329T010000
END:DAYLIGHT
BEGIN:STANDARD
TZOFFSETFROM:+0200
TZOFFSETTO:+0100
TZNAME:CET
DTSTART:20261025T010000
END:STANDARD
END:VTIMEZONE
BEGIN:VEVENT
DTSTART;TZID=Europe/Paris:20260420T150000
DTEND;TZID=Europe/Paris:20260420T170000
DTSTAMP:20260420T020058
CREATED:20260324T113833Z
LAST-MODIFIED:20260324T113833Z
UID:108796-1776697200-1776704400@www.confindustria.sa.it
SUMMARY:Presentazione del 7° Rapporto Annuale dell’Osservatorio Nazionale sulle Reti d’Impresa
DESCRIPTION:organizzata da Retimpresa Confindustria in collaborazione con il Comitato regionale PI Campania \npartecipa il Presidente del Comitato Piccola industria Marco Gambardella \nAnnamaria Laurenzano
URL:https://www.confindustria.sa.it/event/presentazione-del-7-rapporto-annuale-dellosservatorio-nazionale-sulle-reti-dimpresa/
LOCATION:Napoli – Palazzo Partanna (P.zza dei Martiri 58)
CATEGORIES:Riunioni varie
ATTACH;FMTTYPE=image/jpeg:https://www.confindustria.sa.it/wp-content/uploads/2020/07/piccola-1.jpg
END:VEVENT
BEGIN:VEVENT
DTSTART;TZID=Europe/Paris:20260420T160000
DTEND;TZID=Europe/Paris:20260420T163000
DTSTAMP:20260420T020058
CREATED:20260410T145922Z
LAST-MODIFIED:20260410T145922Z
UID:109574-1776700800-1776702600@www.confindustria.sa.it
SUMMARY:Consiglio di Presidenza
DESCRIPTION:partecipa il presidente Antonio Sada \nAnnamaria Laurenzano
URL:https://www.confindustria.sa.it/event/consiglio-di-presidenza-37/
LOCATION:Confindustria  Salerno
CATEGORIES:Riunioni varie
ATTACH;FMTTYPE=image/jpeg:https://www.confindustria.sa.it/wp-content/uploads/2020/07/logo-confsa.jpg
END:VEVENT
BEGIN:VEVENT
DTSTART;TZID=Europe/Paris:20260420T163000
DTEND;TZID=Europe/Paris:20260420T173000
DTSTAMP:20260420T020058
CREATED:20260304T165106Z
LAST-MODIFIED:20260410T145557Z
UID:107689-1776702600-1776706200@www.confindustria.sa.it
SUMMARY:Consiglio Generale
DESCRIPTION:partecipa il presidente Antonio Sada \nAnnamaria Laurenzano
URL:https://www.confindustria.sa.it/event/consiglio-generale-22/
LOCATION:Confindustria  Salerno
CATEGORIES:Riunioni varie
ATTACH;FMTTYPE=image/jpeg:https://www.confindustria.sa.it/wp-content/uploads/2020/07/logo-confsa.jpg
END:VEVENT
BEGIN:VEVENT
DTSTART;TZID=Europe/Paris:20260420T173000
DTEND;TZID=Europe/Paris:20260420T183000
DTSTAMP:20260420T020058
CREATED:20260417T152206Z
LAST-MODIFIED:20260417T152206Z
UID:109932-1776706200-1776709800@www.confindustria.sa.it
SUMMARY:Consiglio Generale allargato per la presentazione del Catalogo dell’Offerta Formativa di Confindustria Salerno
DESCRIPTION:Annamaria Laurenzano
URL:https://www.confindustria.sa.it/event/consiglio-generale-allargato-per-la-presentazione-del-catalogo-dellofferta-formativa-di-confindustria-salerno/
LOCATION:Confindustria  Salerno
ATTACH;FMTTYPE=image/jpeg:https://www.confindustria.sa.it/wp-content/uploads/2020/07/logo-confsa.jpg
END:VEVENT
END:VCALENDAR